BEGIN:VCALENDAR
PRODID:NingEventWidget-v1
VERSION:2.0
METHOD:PUBLISH
BEGIN:VTIMEZONE
TZID:America/Cancun
X-LIC-LOCATION:America/Cancun
BEGIN:DAYLIGHT
TZOFFSETFROM:-0600
TZOFFSETTO:-0500
TZNAME:CDT
DTSTART:19700405T020000
RRULE:FREQ=YEARLY;BYMONTH=4;BYDAY=1SU
END:DAYLIGHT
BEGIN:STANDARD
TZOFFSETFROM:-0500
TZOFFSETTO:-0600
TZNAME:CST
DTSTART:19701025T020000
RRULE:FREQ=YEARLY;BYMONTH=10;BYDAY=-1SU
END:STANDARD
END:VTIMEZONE
BEGIN:VEVENT
UID:2636007:Event:95187
DTSTAMP:20260421T044128Z
SUMMARY:2010 FairTax Kickoff-Kenn WA
DESCRIPTION:Let the monthly meetings & activities/events begin.\nLots 
 to share and lots to do.\n**Put together FairTax packets for all candi
 dates in WA state\n**Share about CPAC &The FairTax Game, **Upcoming me
 etings, FT Public Awareness, FairTax at Tea Parties & beyond \"and\" O
 peration FairTax Victory STORMING the HILL.\n7:30 grab a FairTax Placa
 rd (sign) join in some Waving for 15min. prior to the meeting & to tak
 e with you to all TeaParties and FT Public Awareness events!\n\nFor mo
 re information visit http://www.fairtaxnation.com/events/2010-fairtax-
 kickoffkenn-wa
DTSTART;TZID=America/Cancun:20100322T193000
DTEND;TZID=America/Cancun:20100322T213000
CATEGORIES:meeting
LOCATION:Mid-Columbia Library Kennewick Main Branch
WEBSITE:
URL:
CONTACT:509-586-7124
ORGANIZER;CN="Jamie Wheeler WA":http://www.fairtaxnation.com/profile/J
 amie
ATTACH;FMTTYPE="image/jpeg":http://storage.ning.com/topology/rest/1.0/
 file/get/1080596812?profile=original
ATTENDEE;ROLE=REQ-PARTICIPANT;PARTSTAT=ACCEPTED;RSVP=TRUE;CN="Jamie Wh
 eeler WA":http://www.fairtaxnation.com/profile/Jamie
END:VEVENT
END:VCALENDAR
