BEGIN:VCALENDAR
PRODID:NingEventWidget-v1
VERSION:2.0
METHOD:PUBLISH
BEGIN:VTIMEZONE
TZID:America/Cancun
X-LIC-LOCATION:America/Cancun
BEGIN:DAYLIGHT
TZOFFSETFROM:-0600
TZOFFSETTO:-0500
TZNAME:CDT
DTSTART:19700405T020000
RRULE:FREQ=YEARLY;BYMONTH=4;BYDAY=1SU
END:DAYLIGHT
BEGIN:STANDARD
TZOFFSETFROM:-0500
TZOFFSETTO:-0600
TZNAME:CST
DTSTART:19701025T020000
RRULE:FREQ=YEARLY;BYMONTH=10;BYDAY=-1SU
END:STANDARD
END:VTIMEZONE
BEGIN:VEVENT
UID:2636007:Event:91821
DTSTAMP:20260425T094711Z
SUMMARY:2010 SOLUTIONS Think Tank Online
DESCRIPTION:In 2009 you went to the Tea Parties, emailed, faxed and ca
 lled your Congressional representatives. Are you satisfied with the re
 sults? If your answer is \"no\" you've come to the right program!\n\nA
  program of The People, by The People and for The People!\n\nThe 2010 
 RESTORATION PLAN is under way. We want to support FUNCTIONAL and AGGRE
 SSIVE groups that are shaking things up and getting results. Our goal?
  Learn from them and share their successes with groups that need inspi
 ration.\n\nThis is the first in a series of national solutions based d
 ialogues sponsored by 9/12 National Organizers and Leaders HUB. It wil
 l feature grassroots organization's leaders and their members througho
 ut the nation.\n\nThat's right... we want to hear from YOU and YOUR me
 mbers. There is NO ownership of this unifying effort! We are also open
  to opposing views, challenging our perspectives and seeking common gr
 ound, as long as it's done with respect and in a spirit of alacrity. T
 opics for the first session include but may not be limited to:\n\n\nCo
 re Values: What specific issues and core values cross all political pa
 rty lines to seek restoration of the Founders vision of our nation as 
 a republic. (Moderator: David Jenest, The Founder's Virtual World for 
 Kids, Patriotwatch.com and Crimewatch.us)\nHonest Grassroots Represent
 ation: Taking back The People's power to nominate true grassroots cand
 idates at the local level within ALL political parties. (Moderator: Bi
 ll Bigler, Ann Arbor Patriots)\nUnification: Strategies for unifying a
 llied organizations and \"independent individuals\" without heavy hand
 ed or personal agenda leadership. (Moderators: Patrick Jenkins, Nation
 al 9-12 Project, Unity Summit and Jim Tomasik, Fair Tax Nation on Apri
 l 15th events in DC)\nCongressional Term Limits: The pros and cons of 
 ending career politicians. (Moderator: Joe Londot, ACT NOW!)<'li>\nAft
 er Action Report: National Strike Day: Participants, impact and what's
  next? (Moderator: Ken Cook, National Strike Day and thepatriotcaucus.
 com\nIn the Courts and Legal Community: Efforts exploring the constitu
 tionality of recent Congressional legislation, process and Administrat
 ive policy, actions and circumvention of State’s rights and federal 
 law. (Moderators: Pending - TBA)\n\n\nThe full resources of PDN's medi
 a room studio will be put to use for this event. Several platforms are
  available ranging from our Virtual World Meetup to Talkshoe's Voice-T
 ext application. We will have entertainment between segments, maybe so
 me contests and door prizes. Segments will be pre-recorded to allow as
  much Q&A from our visitors as possible.\n\nIMPORTANT: With a laptop a
 nd wireless connection, this project might be ideal to schedule for yo
 ur own local face-to-face meeting on January 20th. (depending on time 
 zone).\n\nFor more information visit http://www.fairtaxnation.com/even
 ts/2010-solutions-think-tank
DTSTART;TZID=America/Cancun:20100120T180000
DTEND;TZID=America/Cancun:20100120T200000
CATEGORIES:townhall, style, workshop
LOCATION:Online & Interactive voice/text chat (9PM EST - 6PN PST)
WEBSITE:http://patriotwatch.com/January20th.htm
URL:http://patriotwatch.com/January20th.htm
CONTACT:(916) 448-2619
ORGANIZER:Partrict Jenkins, Jim Tomasik, Dave Jenest, Bill Bigler, Ken
  Cook and Joe Londot
ATTACH;FMTTYPE="image/jpeg":
ATTENDEE;ROLE=REQ-PARTICIPANT;PARTSTAT=ACCEPTED;RSVP=TRUE;CN="David Je
 nest":http://www.fairtaxnation.com/profile/DavidJenest
END:VEVENT
END:VCALENDAR
