BEGIN:VCALENDAR
PRODID:NingEventWidget-v1
VERSION:2.0
METHOD:PUBLISH
BEGIN:VTIMEZONE
TZID:America/Cancun
X-LIC-LOCATION:America/Cancun
BEGIN:DAYLIGHT
TZOFFSETFROM:-0600
TZOFFSETTO:-0500
TZNAME:CDT
DTSTART:19700405T020000
RRULE:FREQ=YEARLY;BYMONTH=4;BYDAY=1SU
END:DAYLIGHT
BEGIN:STANDARD
TZOFFSETFROM:-0500
TZOFFSETTO:-0600
TZNAME:CST
DTSTART:19701025T020000
RRULE:FREQ=YEARLY;BYMONTH=10;BYDAY=-1SU
END:STANDARD
END:VTIMEZONE
BEGIN:VEVENT
UID:2636007:Event:163106
DTSTAMP:20260421T063706Z
SUMMARY:A Conversation with Jim Engstrand, Candidate for Congress
DESCRIPTION:http://www.blogtalkradio.com/fairtax4ca/2012/03/08/a-conve
 rsation-with-jim-engstrand-candidate-for-congress\n\n6 pm pacific time
  - 9 pm eastern time\nCall in number; (619) 393-6478\n\nFor more infor
 mation visit http://www.fairtaxnation.com/events/a-conversation-with-j
 im-engstram-candidate-for-congress
DTSTART;TZID=America/Cancun:20120307T180000
DTEND;TZID=America/Cancun:20120307T190000
CATEGORIES:fair, tax, time, -, blog, talk, radio, show
LOCATION:On your computer or telephone
WEBSITE:http://blogtalkradio.com/fairtaxtime4ca
URL:http://blogtalkradio.com/fairtaxtime4ca
CONTACT:(619) 393-6478
ORGANIZER;CN="John Wesley Nobles":http://www.fairtaxnation.com/profile
 /JohnWesleyNobles
ATTACH;FMTTYPE="image/jpeg":
ATTENDEE;ROLE=REQ-PARTICIPANT;PARTSTAT=ACCEPTED;RSVP=TRUE;CN="Chip Spr
 adley":http://www.fairtaxnation.com/profile/ChipSpradley
ATTENDEE;ROLE=REQ-PARTICIPANT;PARTSTAT=ACCEPTED;RSVP=TRUE;CN="William 
 Payne":http://www.fairtaxnation.com/profile/WilliamPayne
ATTENDEE;ROLE=REQ-PARTICIPANT;PARTSTAT=ACCEPTED;RSVP=TRUE;CN="Laura Mc
 Cue":http://www.fairtaxnation.com/profile/LauraMcCue
ATTENDEE;ROLE=REQ-PARTICIPANT;PARTSTAT=ACCEPTED;RSVP=TRUE;CN="Robert W
 illiams":http://www.fairtaxnation.com/profile/TXFairTaxer
ATTENDEE;ROLE=REQ-PARTICIPANT;PARTSTAT=ACCEPTED;RSVP=TRUE;CN="John Wes
 ley Nobles":http://www.fairtaxnation.com/profile/JohnWesleyNobles
END:VEVENT
END:VCALENDAR
