BEGIN:VCALENDAR
PRODID:NingEventWidget-v1
VERSION:2.0
METHOD:PUBLISH
BEGIN:VTIMEZONE
TZID:America/Cancun
X-LIC-LOCATION:America/Cancun
BEGIN:DAYLIGHT
TZOFFSETFROM:-0600
TZOFFSETTO:-0500
TZNAME:CDT
DTSTART:19700405T020000
RRULE:FREQ=YEARLY;BYMONTH=4;BYDAY=1SU
END:DAYLIGHT
BEGIN:STANDARD
TZOFFSETFROM:-0500
TZOFFSETTO:-0600
TZNAME:CST
DTSTART:19701025T020000
RRULE:FREQ=YEARLY;BYMONTH=10;BYDAY=-1SU
END:STANDARD
END:VTIMEZONE
BEGIN:VEVENT
UID:2636007:Event:162151
DTSTAMP:20260424T064801Z
SUMMARY:A Conversation with US Congressional Candidate Mark Oxner
DESCRIPTION:Join us on Fair Tax Time Blog Talk Radio this Wednesday, F
 ebruary 1, live,  9 pm ET, 6 pm PT with Congressional Candidate Mark 
 Oxner of Florida.  He want's to abolish the IRS!  Please copy to you
 r friends and relatives.\n\nFor more information visit http://www.fair
 taxnation.com/events/a-conversation-with-us-congressional-candidate-ma
 rk-oxner
DTSTART;TZID=America/Cancun:20120201T180000
DTEND;TZID=America/Cancun:20120201T190000
CATEGORIES:fair, tax, time, -, blog, talk, radio, show
LOCATION:On your computer or telephone
WEBSITE:http://www.blogtalkradio.com/fairtax4ca/2012/02/02/mark-oxner-
 candidate-for-the-us-congress-from-florida
URL:http://www.blogtalkradio.com/fairtax4ca/2012/02/02/mark-oxner-cand
 idate-for-the-us-congress-from-florida
CONTACT:(619) 393-6478
ORGANIZER;CN="John Wesley Nobles":http://www.fairtaxnation.com/profile
 /JohnWesleyNobles
ATTACH;FMTTYPE="image/jpeg":
ATTENDEE;ROLE=REQ-PARTICIPANT;PARTSTAT=ACCEPTED;RSVP=TRUE;CN="John Wes
 ley Nobles":http://www.fairtaxnation.com/profile/JohnWesleyNobles
ATTENDEE;ROLE=REQ-PARTICIPANT;PARTSTAT=TENTATIVE;RSVP=TRUE;CN="Jeffrey
  Gilmore":http://www.fairtaxnation.com/profile/JeffreyGilmore
END:VEVENT
END:VCALENDAR
