BEGIN:VCALENDAR
PRODID:NingEventWidget-v1
VERSION:2.0
METHOD:PUBLISH
BEGIN:VTIMEZONE
TZID:America/Cancun
X-LIC-LOCATION:America/Cancun
BEGIN:DAYLIGHT
TZOFFSETFROM:-0600
TZOFFSETTO:-0500
TZNAME:CDT
DTSTART:19700405T020000
RRULE:FREQ=YEARLY;BYMONTH=4;BYDAY=1SU
END:DAYLIGHT
BEGIN:STANDARD
TZOFFSETFROM:-0500
TZOFFSETTO:-0600
TZNAME:CST
DTSTART:19701025T020000
RRULE:FREQ=YEARLY;BYMONTH=10;BYDAY=-1SU
END:STANDARD
END:VTIMEZONE
BEGIN:VEVENT
UID:2636007:Event:183535
DTSTAMP:20260424T035009Z
SUMMARY:ABOLISH the IRS Forum
DESCRIPTION:Join us for the solution to the IRS problem.\nYou'll hear 
 the FairTax basics, hear from a panel and then have question & answer 
 time.\n\nFor more information visit http://www.fairtaxnation.com/event
 s/abolish-the-irs-forum
DTSTART;TZID=America/Cancun:20130829T190000
DTEND;TZID=America/Cancun:20130829T210000
CATEGORIES:educational
LOCATION:Mid-Columbia Library UNION BRANCH
WEBSITE:
URL:
CONTACT:509-586-7124
ORGANIZER;CN="Jamie Wheeler WA":http://www.fairtaxnation.com/profile/J
 amie
ATTACH;FMTTYPE="image/jpeg":
ATTENDEE;ROLE=REQ-PARTICIPANT;PARTSTAT=ACCEPTED;RSVP=TRUE;CN="Jamie Wh
 eeler WA":http://www.fairtaxnation.com/profile/Jamie
END:VEVENT
END:VCALENDAR
