BEGIN:VCALENDAR
PRODID:NingEventWidget-v1
VERSION:2.0
METHOD:PUBLISH
BEGIN:VTIMEZONE
TZID:America/Cancun
X-LIC-LOCATION:America/Cancun
BEGIN:DAYLIGHT
TZOFFSETFROM:-0600
TZOFFSETTO:-0500
TZNAME:CDT
DTSTART:19700405T020000
RRULE:FREQ=YEARLY;BYMONTH=4;BYDAY=1SU
END:DAYLIGHT
BEGIN:STANDARD
TZOFFSETFROM:-0500
TZOFFSETTO:-0600
TZNAME:CST
DTSTART:19701025T020000
RRULE:FREQ=YEARLY;BYMONTH=10;BYDAY=-1SU
END:STANDARD
END:VTIMEZONE
BEGIN:VEVENT
UID:2636007:Event:62514
DTSTAMP:20260421T202247Z
SUMMARY:Alabama Huntsville Madison County FairTax Group
DESCRIPTION:Monthly meeting at E.S. Brooks School of Real Estate. We w
 ill be defining our local business support outreach program, preparing
  to support the July 4th Huntsville Tea Party and reporting on our att
 endance at the MidWest FairTax Rally in Columbia, MO, on June 13th.\n\
 nFor more information visit http://www.fairtaxnation.com/events/alabam
 a-huntsville-madison
DTSTART;TZID=America/Cancun:20090618T190000
DTEND;TZID=America/Cancun:20090618T210000
CATEGORIES:monthly, meeting
LOCATION:E.S. Brooks School of Real Estate
WEBSITE:
URL:
CONTACT:256-776-5636
ORGANIZER;CN="Chuck Bailey":http://www.fairtaxnation.com/profile/Chuck
 Bailey
ATTACH;FMTTYPE="image/jpeg":http://storage.ning.com/topology/rest/1.0/
 file/get/1080584763?profile=original
ATTENDEE;ROLE=REQ-PARTICIPANT;PARTSTAT=ACCEPTED;RSVP=TRUE;CN="Chuck Ba
 iley":http://www.fairtaxnation.com/profile/ChuckBailey
END:VEVENT
END:VCALENDAR
