BEGIN:VCALENDAR
PRODID:NingEventWidget-v1
VERSION:2.0
METHOD:PUBLISH
BEGIN:VTIMEZONE
TZID:America/Cancun
X-LIC-LOCATION:America/Cancun
BEGIN:DAYLIGHT
TZOFFSETFROM:-0600
TZOFFSETTO:-0500
TZNAME:CDT
DTSTART:19700405T020000
RRULE:FREQ=YEARLY;BYMONTH=4;BYDAY=1SU
END:DAYLIGHT
BEGIN:STANDARD
TZOFFSETFROM:-0500
TZOFFSETTO:-0600
TZNAME:CST
DTSTART:19701025T020000
RRULE:FREQ=YEARLY;BYMONTH=10;BYDAY=-1SU
END:STANDARD
END:VTIMEZONE
BEGIN:VEVENT
UID:2636007:Event:27142
DTSTAMP:20260424T121937Z
SUMMARY:Alabama State Director, National Spokesman on Radio
DESCRIPTION:Special heads up notice for Fair Tax Nation Members and gu
 ests.\nAlabama State Director and National Spokesman Mike Frederick of
  FairTax.org, will be interviewed on the evening program “Trash Talk
 ing Radio” , Tuesday, March 3rd.\nAt 6:00 PM CST and 7:00 PM Eastern
  Std.Time.\nTune in on your computer to www.trashtalkingradio.com/wn/i
 ndex.shtml\nto hear the streaming audio of this show.\nBe sure to use 
 this great opportunity to hear the latest news direct from the top. Al
 so invite guests and friends to introduce them to the Fair Tax.\nIt is
  important to tune in and for all of us to connect to the streaming au
 dio at the link listed. Your action will indicate high interest in the
  Fair Tax program. Let’s have a big turnout of listeners and it coul
 d lead to bigger things. (Please see the blog about donating a few min
 utes each week\nhttp://fairtaxnation.ning.com/profiles/blogs/will-you-
 donate-a-few-minutes)\nThis announcement is a special service arranged
  by FairTax Nation and FairTax.org\nCome to the site daily and look fo
 r these announcements\n\nFor more information visit http://www.fairtax
 nation.com/events/alabama-state-director
DTSTART;TZID=America/Cancun:20090303T180000
DTEND;TZID=America/Cancun:20090303T190000
CATEGORIES:internet, streaming, audio, radio, chat, show
LOCATION:National coverage and your home computer
WEBSITE:http://www.trashtalkingradio.com/wn/index.shtml
URL:http://www.trashtalkingradio.com/wn/index.shtml
CONTACT:
ORGANIZER:FairTax.org
ATTACH;FMTTYPE="image/jpeg":http://storage.ning.com/topology/rest/1.0/
 file/get/1080577548?profile=original
ATTENDEE;ROLE=REQ-PARTICIPANT;PARTSTAT=ACCEPTED;RSVP=TRUE;CN="Fla Vol"
 :http://www.fairtaxnation.com/profile/StewRusby
END:VEVENT
END:VCALENDAR
