BEGIN:VCALENDAR
PRODID:NingEventWidget-v1
VERSION:2.0
METHOD:PUBLISH
BEGIN:VTIMEZONE
TZID:America/Cancun
X-LIC-LOCATION:America/Cancun
BEGIN:DAYLIGHT
TZOFFSETFROM:-0600
TZOFFSETTO:-0500
TZNAME:CDT
DTSTART:19700405T020000
RRULE:FREQ=YEARLY;BYMONTH=4;BYDAY=1SU
END:DAYLIGHT
BEGIN:STANDARD
TZOFFSETFROM:-0500
TZOFFSETTO:-0600
TZNAME:CST
DTSTART:19701025T020000
RRULE:FREQ=YEARLY;BYMONTH=10;BYDAY=-1SU
END:STANDARD
END:VTIMEZONE
BEGIN:VEVENT
UID:2636007:Event:99450
DTSTAMP:20260421T184059Z
SUMMARY:\"An Inconvenient Tax\" Premier Showing!!
DESCRIPTION:Please come and show your support of this fundraiser..and 
 be sure to bring your friends!! We have secured the rights to premier 
 this new 90 minute documentary here in Asheville and want to get as ma
 ny people as possible to view it. NC FairTax hopes to use the funds ra
 ised from this event to purchase more FairTax supplies and to particip
 ate in more local events. Your help is appreciated!! Cost per person i
 s $10.00...remember it's a fundraiser!\nFilm Synopsis: \"An Inconvenie
 nt Tax\"\n\nAlbert Einstein once wrote, “The hardest thing in the wo
 rld to understand is the income tax.” The product of 95 years worth 
 of additions, subtractions, deductions, and exclusions, it has become 
 such a headache that many are calling for it to be drastically simplif
 ied or even removed all together. With a looming fiscal crisis on the 
 horizon, April 15th seems more like a scene from a B—Horror horror m
 ovie than a day to contribute to the common good of the nation. Politi
 cal favoritism, ineffective social programs, and economic manipulation
 s all reveal the need for tax reform. But how can Americans decide the
  best way to change the income tax when few people even understand the
  code or the vast extent to which it truly affects the country? “An 
 Inconvenient Tax” explores the history of the income tax and brings 
 to light the causes of its many complexities. The film follows the tax
  through wars, economic booms, and some of the most significant presid
 encies in U.S. history. To help crack the code, the film employs the c
 ountry’s top economic experts, commentators, and political voices. N
 oam Chomsky, Steve Forbes, Joseph Thorndike, Mike Huckabee, Charles Ro
 ssotti, Dave M. Walker, Neal Boortz, Michael Graetz, Daniel Shaviro, L
 eonard Burman, and others discuss not only the problems America faces 
 in the tax code, but also give valuable insights on how to move forwar
 d.\n\nFinally, the film gives a voice to the creators of several tax r
 eform solutions who claim to have found a better way. In a time when m
 any Americans are concerned about the future of the economy, rising de
 ficits, and unfair tax treatment, “An Inconvenient Tax” provides a
  crucial, honest look at the income tax. For the first time ever, Amer
 icans can engage in the tax debate with confidence and perhaps discove
 r a new way to tax.\n\nFor more information visit http://www.fairtaxna
 tion.com/events/an-inconvenient-tax-premier
DTSTART;TZID=America/Cancun:20100430T183000
DTEND;TZID=America/Cancun:20100430T203000
CATEGORIES:movie, premier, showing
LOCATION:A-B Tech in the Ferguson Auditorium
WEBSITE:http://www.abtech.edu
URL:http://www.abtech.edu
CONTACT:828-274-7844 or laura.mccue@ncfairtax.org
ORGANIZER;CN="Laura McCue":http://www.fairtaxnation.com/profile/LauraM
 cCue
ATTACH;FMTTYPE="image/jpeg":http://storage.ning.com/topology/rest/1.0/
 file/get/1080598708?profile=original
ATTENDEE;ROLE=REQ-PARTICIPANT;PARTSTAT=ACCEPTED;RSVP=TRUE;CN="Mike McL
 ean":http://www.fairtaxnation.com/profile/MikeMcLean
ATTENDEE;ROLE=REQ-PARTICIPANT;PARTSTAT=ACCEPTED;RSVP=TRUE;CN="Steven H
 aertel":http://www.fairtaxnation.com/profile/StevenHaertel
ATTENDEE;ROLE=REQ-PARTICIPANT;PARTSTAT=ACCEPTED;RSVP=TRUE;CN="Laura Mc
 Cue":http://www.fairtaxnation.com/profile/LauraMcCue
ATTENDEE;ROLE=REQ-PARTICIPANT;PARTSTAT=TENTATIVE;RSVP=TRUE;CN="David S
 hipp":http://www.fairtaxnation.com/profile/DavidShipp
END:VEVENT
END:VCALENDAR
