BEGIN:VCALENDAR
PRODID:NingEventWidget-v1
VERSION:2.0
METHOD:PUBLISH
BEGIN:VTIMEZONE
TZID:America/Cancun
X-LIC-LOCATION:America/Cancun
BEGIN:DAYLIGHT
TZOFFSETFROM:-0600
TZOFFSETTO:-0500
TZNAME:CDT
DTSTART:19700405T020000
RRULE:FREQ=YEARLY;BYMONTH=4;BYDAY=1SU
END:DAYLIGHT
BEGIN:STANDARD
TZOFFSETFROM:-0500
TZOFFSETTO:-0600
TZNAME:CST
DTSTART:19701025T020000
RRULE:FREQ=YEARLY;BYMONTH=10;BYDAY=-1SU
END:STANDARD
END:VTIMEZONE
BEGIN:VEVENT
UID:2636007:Event:132195
DTSTAMP:20260425T053820Z
SUMMARY:Apex Peak Republican Club Meeting
DESCRIPTION:Apex Peak Rep Club will be hosting me for a presentation 
 on April 11, at 7pm. if you are in the area, come on by. Invite your f
 riends.\n\nFor more information visit http://www.fairtaxnation.com/eve
 nts/apex-peak-republican-club
DTSTART;TZID=America/Cancun:20110411T190000
DTEND;TZID=America/Cancun:20110411T210000
CATEGORIES:club, meeting
LOCATION:Anna's Pizza
WEBSITE:http://apexprc.ning.com/
URL:http://apexprc.ning.com/
CONTACT:
ORGANIZER;CN="Michael Patton":http://www.fairtaxnation.com/profile/Mic
 haelPatton
ATTACH;FMTTYPE="image/jpeg":
ATTENDEE;ROLE=REQ-PARTICIPANT;PARTSTAT=ACCEPTED;RSVP=TRUE;CN="Michael 
 Patton":http://www.fairtaxnation.com/profile/MichaelPatton
END:VEVENT
END:VCALENDAR
