BEGIN:VCALENDAR
PRODID:NingEventWidget-v1
VERSION:2.0
METHOD:PUBLISH
BEGIN:VTIMEZONE
TZID:America/Cancun
X-LIC-LOCATION:America/Cancun
BEGIN:DAYLIGHT
TZOFFSETFROM:-0600
TZOFFSETTO:-0500
TZNAME:CDT
DTSTART:19700405T020000
RRULE:FREQ=YEARLY;BYMONTH=4;BYDAY=1SU
END:DAYLIGHT
BEGIN:STANDARD
TZOFFSETFROM:-0500
TZOFFSETTO:-0600
TZNAME:CST
DTSTART:19701025T020000
RRULE:FREQ=YEARLY;BYMONTH=10;BYDAY=-1SU
END:STANDARD
END:VTIMEZONE
BEGIN:VEVENT
UID:2636007:Event:190640
DTSTAMP:20260425T111147Z
SUMMARY:April FairTax Webinar
DESCRIPTION: \nWhat: \"Understanding the FairTax®\" webinar plus the
  special topic: “The Effect on Seniors and Retired People”  When: 
 Thursday, April 23, 2015  Time: 8:00 PM Eastern, 7:00 PM Central, 6:00
  PM Mountain, and 5:00 PM Pacific  Where: Anywhere your computer has i
 nternet access. This is a LIVE EVENT. You may ask questions and they w
 ill all be answered!  Who: Join Marc Manieri, producer and host of the
  “Understanding the FairTax” webinar series.  Why: These webinars 
 from the Florida FairTax Educational Association are vital to educate 
 those on the front lines and those wanting to know more about the Fair
 Tax. Be sure and share each month’s webinar with your friends!  NOTI
 CE: To participate it is necessary to register by clicking this link, 
 here. Then watch for a confirmation email with instructions for loggin
 g on.  For additional information contact Larry Walters at repeal_16@e
 arthlink.net.\n\n\n\nFor more information visit http://www.fairtaxnati
 on.com/events/april-fairtax-webinar
DTSTART;TZID=America/Cancun:20150423T200000
DTEND;TZID=America/Cancun:20150423T210000
CATEGORIES:webinar
LOCATION:Anywhere your Personal Computer has internet access
WEBSITE:http://www.FairTax.org
URL:http://www.FairTax.org
CONTACT:407-949-2959
ORGANIZER;CN="Larry Walters":http://www.fairtaxnation.com/profile/Larr
 yWalters
ATTACH;FMTTYPE="image/jpeg":http://storage.ning.com/topology/rest/1.0/
 file/get/1080614048?profile=original
ATTENDEE;ROLE=REQ-PARTICIPANT;PARTSTAT=ACCEPTED;RSVP=TRUE;CN="Larry Wa
 lters":http://www.fairtaxnation.com/profile/LarryWalters
END:VEVENT
END:VCALENDAR
