BEGIN:VCALENDAR
PRODID:NingEventWidget-v1
VERSION:2.0
METHOD:PUBLISH
BEGIN:VTIMEZONE
TZID:America/Cancun
X-LIC-LOCATION:America/Cancun
BEGIN:DAYLIGHT
TZOFFSETFROM:-0600
TZOFFSETTO:-0500
TZNAME:CDT
DTSTART:19700405T020000
RRULE:FREQ=YEARLY;BYMONTH=4;BYDAY=1SU
END:DAYLIGHT
BEGIN:STANDARD
TZOFFSETFROM:-0500
TZOFFSETTO:-0600
TZNAME:CST
DTSTART:19701025T020000
RRULE:FREQ=YEARLY;BYMONTH=10;BYDAY=-1SU
END:STANDARD
END:VTIMEZONE
BEGIN:VEVENT
UID:2636007:Event:62397
DTSTAMP:20260421T141556Z
SUMMARY:Asheville Flag Day Celebration
DESCRIPTION:This is a non-partisan event, formatted as a downtown \"ge
 t-together\" and patriotic demonstration at Pritchard Park. After the 
 rally, we will be separating along 4 different walking routes to patro
 nize a Flag Day sponsoring restaurant of your choice. Please bring a f
 lag to the celebration. This can be a pin, a hat, a shirt, the family 
 flag...etc. Sponsoring restaraunts are asked to support this event by 
 displaying the Flag, and offering a patron dining discount to anyone c
 arrying, or displaying the flag. Each person must carry or display the
 ir own flag in order to get this special event discount. We want to se
 e a river of red, white, and blue waving down our city streets on a sp
 ecial Sunday afternoon. The spirit of the event is positive, historic,
  and uplifting. This is not a protest, or an \"angry\" event. There wi
 ll be many FairTaxers there and I will be speaking about the FairTax.\
 n\nLets get together...celebrate a page in our great nation's history.
 \n\nFor more information visit http://www.fairtaxnation.com/events/ash
 eville-flag-day-celebration
DTSTART;TZID=America/Cancun:20090614T140000
DTEND;TZID=America/Cancun:20090614T170000
CATEGORIES:celebration
LOCATION:Pritchard Park in downtown Asheville
WEBSITE:http://www.meetup.com/Asheville-Glenn-Beck-We-Surround-Them-Me
 etup-Group/calendar/9948703/
URL:http://www.meetup.com/Asheville-Glenn-Beck-We-Surround-Them-Meetup
 -Group/calendar/9948703/
CONTACT:828-274-7844 or laura.mccue@ncfairtax.org
ORGANIZER;CN="Laura McCue":http://www.fairtaxnation.com/profile/LauraM
 cCue
ATTACH;FMTTYPE="image/jpeg":http://storage.ning.com/topology/rest/1.0/
 file/get/1080584598?profile=original
ATTENDEE;ROLE=REQ-PARTICIPANT;PARTSTAT=ACCEPTED;RSVP=TRUE;CN="Laura Mc
 Cue":http://www.fairtaxnation.com/profile/LauraMcCue
ATTENDEE;ROLE=REQ-PARTICIPANT;PARTSTAT=TENTATIVE;RSVP=TRUE;CN="Charles
  and Gail Blunt":http://www.fairtaxnation.com/profile/CharlesandGailBl
 unt
ATTENDEE;ROLE=REQ-PARTICIPANT;PARTSTAT=TENTATIVE;RSVP=TRUE;CN="Larry P
 orter":http://www.fairtaxnation.com/profile/LarryPorter
END:VEVENT
END:VCALENDAR
