BEGIN:VCALENDAR
PRODID:NingEventWidget-v1
VERSION:2.0
METHOD:PUBLISH
BEGIN:VTIMEZONE
TZID:America/Cancun
X-LIC-LOCATION:America/Cancun
BEGIN:DAYLIGHT
TZOFFSETFROM:-0600
TZOFFSETTO:-0500
TZNAME:CDT
DTSTART:19700405T020000
RRULE:FREQ=YEARLY;BYMONTH=4;BYDAY=1SU
END:DAYLIGHT
BEGIN:STANDARD
TZOFFSETFROM:-0500
TZOFFSETTO:-0600
TZNAME:CST
DTSTART:19701025T020000
RRULE:FREQ=YEARLY;BYMONTH=10;BYDAY=-1SU
END:STANDARD
END:VTIMEZONE
BEGIN:VEVENT
UID:2636007:Event:36750
DTSTAMP:20260420T151226Z
SUMMARY:Asheville NC FairTax/Ind Caucus discussion
DESCRIPTION:Short presentation followed by discussion of strategy movi
 ng forward.\n\nFor more information visit http://www.fairtaxnation.com
 /events/asheville-nc-fairtaxind-caucus
DTSTART;TZID=America/Cancun:20090326T183000
DTEND;TZID=America/Cancun:20090326T193000
CATEGORIES:informational, discussion
LOCATION:Panera Bread Co.
WEBSITE:
URL:
CONTACT:
ORGANIZER;CN="Carol Adams McLean":http://www.fairtaxnation.com/profile
 /CarolAdamsMcLean
ATTACH;FMTTYPE="image/jpeg":http://storage.ning.com/topology/rest/1.0/
 file/get/1080579218?profile=original
ATTENDEE;ROLE=REQ-PARTICIPANT;PARTSTAT=ACCEPTED;RSVP=TRUE;CN="Carol Ad
 ams McLean":http://www.fairtaxnation.com/profile/CarolAdamsMcLean
END:VEVENT
END:VCALENDAR
