BEGIN:VCALENDAR
PRODID:NingEventWidget-v1
VERSION:2.0
METHOD:PUBLISH
BEGIN:VTIMEZONE
TZID:America/Cancun
X-LIC-LOCATION:America/Cancun
BEGIN:DAYLIGHT
TZOFFSETFROM:-0600
TZOFFSETTO:-0500
TZNAME:CDT
DTSTART:19700405T020000
RRULE:FREQ=YEARLY;BYMONTH=4;BYDAY=1SU
END:DAYLIGHT
BEGIN:STANDARD
TZOFFSETFROM:-0500
TZOFFSETTO:-0600
TZNAME:CST
DTSTART:19701025T020000
RRULE:FREQ=YEARLY;BYMONTH=10;BYDAY=-1SU
END:STANDARD
END:VTIMEZONE
BEGIN:VEVENT
UID:2636007:Event:93013
DTSTAMP:20260422T143926Z
SUMMARY:Beavercreek, OH Liberty Group Meeting
DESCRIPTION:Saturday Feb 13th,2010\n\n9:00am-10:30am\nBeavercreek Libe
 rty Group Breakfast\nRoush's Restaurant Fairborn, OH\n\nFor more infor
 mation visit http://www.fairtaxnation.com/events/beavercreek-oh-libert
 y-group-1
DTSTART;TZID=America/Cancun:20100213T090000
DTEND;TZID=America/Cancun:20100213T103000
CATEGORIES:liberty, group, "+", friends
LOCATION:Roush's Restaurant
WEBSITE:http://www.beavercreek.liberty.group@gmail.com
URL:http://www.beavercreek.liberty.group@gmail.com
CONTACT:
ORGANIZER:CJ & Brad Bieghler
ATTACH;FMTTYPE="image/jpeg":
ATTENDEE;ROLE=REQ-PARTICIPANT;PARTSTAT=ACCEPTED;RSVP=TRUE;CN=Billie:ht
 tp://www.fairtaxnation.com/profile/Billie
END:VEVENT
END:VCALENDAR
