BEGIN:VCALENDAR
PRODID:NingEventWidget-v1
VERSION:2.0
METHOD:PUBLISH
BEGIN:VTIMEZONE
TZID:America/Cancun
X-LIC-LOCATION:America/Cancun
BEGIN:DAYLIGHT
TZOFFSETFROM:-0600
TZOFFSETTO:-0500
TZNAME:CDT
DTSTART:19700405T020000
RRULE:FREQ=YEARLY;BYMONTH=4;BYDAY=1SU
END:DAYLIGHT
BEGIN:STANDARD
TZOFFSETFROM:-0500
TZOFFSETTO:-0600
TZNAME:CST
DTSTART:19701025T020000
RRULE:FREQ=YEARLY;BYMONTH=10;BYDAY=-1SU
END:STANDARD
END:VTIMEZONE
BEGIN:VEVENT
UID:2636007:Event:93011
DTSTAMP:20260422T155941Z
SUMMARY:Beavercreek, OH Liberty Group Meeting
DESCRIPTION:Thursday Feb 11th, 2010\n7:00pm-9:00pm\n\nBeavercreek Libe
 rty Group Meeting\nBeavercreek School Board\n3040 Kemp Rd\nDiscussion:
  Dayton Tea Party Rally (April 13th 2010)\n\nFor more information visi
 t http://www.fairtaxnation.com/events/beavercreek-oh-liberty-group
DTSTART;TZID=America/Cancun:20100211T190000
DTEND;TZID=America/Cancun:20100211T210000
CATEGORIES:liberty, group, "+", friends
LOCATION:Beavercreek School Board
WEBSITE:http://www.beavercreek.liberty.group@gmail.com
URL:http://www.beavercreek.liberty.group@gmail.com
CONTACT:
ORGANIZER:CJ & Brad Bieghler
ATTACH;FMTTYPE="image/jpeg":
ATTENDEE;ROLE=REQ-PARTICIPANT;PARTSTAT=ACCEPTED;RSVP=TRUE;CN=Billie:ht
 tp://www.fairtaxnation.com/profile/Billie
END:VEVENT
END:VCALENDAR
