BEGIN:VCALENDAR
PRODID:NingEventWidget-v1
VERSION:2.0
METHOD:PUBLISH
BEGIN:VTIMEZONE
TZID:America/Cancun
X-LIC-LOCATION:America/Cancun
BEGIN:DAYLIGHT
TZOFFSETFROM:-0600
TZOFFSETTO:-0500
TZNAME:CDT
DTSTART:19700405T020000
RRULE:FREQ=YEARLY;BYMONTH=4;BYDAY=1SU
END:DAYLIGHT
BEGIN:STANDARD
TZOFFSETFROM:-0500
TZOFFSETTO:-0600
TZNAME:CST
DTSTART:19701025T020000
RRULE:FREQ=YEARLY;BYMONTH=10;BYDAY=-1SU
END:STANDARD
END:VTIMEZONE
BEGIN:VEVENT
UID:2636007:Event:94087
DTSTAMP:20260421T083623Z
SUMMARY:Bill Randall for Congress fund raiser
DESCRIPTION:I am speaking about the FairTax at a fund raiser for Bill 
 Randall. We will be selling T-shirts and other FairTax items for FairT
 ax donations. It is scheduled for March 14th at 5:30pm. The event will
  be dinner at Milton's in Raleigh . Cost is $35. RSVP required. Direct
  RSVP to: Cheryl@randallforcongress.com\n\nFor more information visit 
 http://www.fairtaxnation.com/events/bill-randall-for-congress-fund
DTSTART;TZID=America/Cancun:20100314T173000
DTEND;TZID=America/Cancun:20100314T203000
CATEGORIES:fundraiser
LOCATION:Milton's Restaurant
WEBSITE:http://www.miltonspizza.com/
URL:http://www.miltonspizza.com/
CONTACT:919-847-0604
ORGANIZER;CN="Shawn McHenry":http://www.fairtaxnation.com/profile/Shaw
 nMcHenry
ATTACH;FMTTYPE="image/jpeg":
ATTENDEE;ROLE=REQ-PARTICIPANT;PARTSTAT=ACCEPTED;RSVP=TRUE;CN="Shawn Mc
 Henry":http://www.fairtaxnation.com/profile/ShawnMcHenry
ATTENDEE;ROLE=REQ-PARTICIPANT;PARTSTAT=TENTATIVE;RSVP=TRUE;CN="Mike Po
 ol":http://www.fairtaxnation.com/profile/MikePool
END:VEVENT
END:VCALENDAR
