BEGIN:VCALENDAR
PRODID:NingEventWidget-v1
VERSION:2.0
METHOD:PUBLISH
BEGIN:VTIMEZONE
TZID:America/Cancun
X-LIC-LOCATION:America/Cancun
BEGIN:DAYLIGHT
TZOFFSETFROM:-0600
TZOFFSETTO:-0500
TZNAME:CDT
DTSTART:19700405T020000
RRULE:FREQ=YEARLY;BYMONTH=4;BYDAY=1SU
END:DAYLIGHT
BEGIN:STANDARD
TZOFFSETFROM:-0500
TZOFFSETTO:-0600
TZNAME:CST
DTSTART:19701025T020000
RRULE:FREQ=YEARLY;BYMONTH=10;BYDAY=-1SU
END:STANDARD
END:VTIMEZONE
BEGIN:VEVENT
UID:2636007:Event:39309
DTSTAMP:20260423T065348Z
SUMMARY:Bob Whigham University of Toledo Fair Tax Presentation
DESCRIPTION:Bob Whigham will present the Fair Tax to the University of
  Toledo Republican Group.\n\nFor more information visit http://www.fai
 rtaxnation.com/events/bob-whigham-university-of
DTSTART;TZID=America/Cancun:20090428T190000
DTEND;TZID=America/Cancun:20090428T200000
CATEGORIES:fairtax, presentation
LOCATION:University of Toledo - Republicans
WEBSITE:
URL:
CONTACT:
ORGANIZER;CN="Deborah in Ohio":http://www.fairtaxnation.com/profile/De
 borahinOhio
ATTACH;FMTTYPE="image/jpeg":
ATTENDEE;ROLE=REQ-PARTICIPANT;PARTSTAT=ACCEPTED;RSVP=TRUE;CN="Deborah 
 in Ohio":http://www.fairtaxnation.com/profile/DeborahinOhio
END:VEVENT
END:VCALENDAR
