BEGIN:VCALENDAR
PRODID:NingEventWidget-v1
VERSION:2.0
METHOD:PUBLISH
BEGIN:VTIMEZONE
TZID:America/Cancun
X-LIC-LOCATION:America/Cancun
BEGIN:DAYLIGHT
TZOFFSETFROM:-0600
TZOFFSETTO:-0500
TZNAME:CDT
DTSTART:19700405T020000
RRULE:FREQ=YEARLY;BYMONTH=4;BYDAY=1SU
END:DAYLIGHT
BEGIN:STANDARD
TZOFFSETFROM:-0500
TZOFFSETTO:-0600
TZNAME:CST
DTSTART:19701025T020000
RRULE:FREQ=YEARLY;BYMONTH=10;BYDAY=-1SU
END:STANDARD
END:VTIMEZONE
BEGIN:VEVENT
UID:2636007:Event:27170
DTSTAMP:20260424T032316Z
SUMMARY:Buncombe County Republican Convention
DESCRIPTION:The FairTax will be hosting a table at this day long event
  and I need volunteers to help staff the booth. Please let me know if 
 you can help. Also we are going to be presenting about the Fairtax for
  an hour during the workshop part of the event in the afternoon from 1
 -4 pm. There is a requested $5 donation to attend. Click in the link b
 elow to learn more about this convention and to find a schedule and ma
 p.\n\nFor more information visit http://www.fairtaxnation.com/events/b
 uncombe-county-republican
DTSTART;TZID=America/Cancun:20090307T073000
DTEND;TZID=America/Cancun:20090307T160000
CATEGORIES:meeting, and, workshops
LOCATION:A-B Tech in the Ferguson Auditorium
WEBSITE:http://www.buncombegop.org/blog/2009/03/07/buncombe-gop-conven
 tion/
URL:http://www.buncombegop.org/blog/2009/03/07/buncombe-gop-convention
 /
CONTACT:828-274-7844
ORGANIZER:Laura McCue             laura.mccue@ncfairtax.org
ATTACH;FMTTYPE="image/jpeg":
ATTENDEE;ROLE=REQ-PARTICIPANT;PARTSTAT=ACCEPTED;RSVP=TRUE;CN="Mike McL
 ean":http://www.fairtaxnation.com/profile/MikeMcLean
ATTENDEE;ROLE=REQ-PARTICIPANT;PARTSTAT=ACCEPTED;RSVP=TRUE;CN="Laura Mc
 Cue":http://www.fairtaxnation.com/profile/LauraMcCue
ATTENDEE;ROLE=REQ-PARTICIPANT;PARTSTAT=TENTATIVE;RSVP=TRUE;CN="David S
 hipp":http://www.fairtaxnation.com/profile/DavidShipp
ATTENDEE;ROLE=REQ-PARTICIPANT;PARTSTAT=TENTATIVE;RSVP=TRUE;CN="Ginger 
 Moseley":http://www.fairtaxnation.com/profile/GingerMoseley
END:VEVENT
END:VCALENDAR
