BEGIN:VCALENDAR
PRODID:NingEventWidget-v1
VERSION:2.0
METHOD:PUBLISH
BEGIN:VTIMEZONE
TZID:America/Cancun
X-LIC-LOCATION:America/Cancun
BEGIN:DAYLIGHT
TZOFFSETFROM:-0600
TZOFFSETTO:-0500
TZNAME:CDT
DTSTART:19700405T020000
RRULE:FREQ=YEARLY;BYMONTH=4;BYDAY=1SU
END:DAYLIGHT
BEGIN:STANDARD
TZOFFSETFROM:-0500
TZOFFSETTO:-0600
TZNAME:CST
DTSTART:19701025T020000
RRULE:FREQ=YEARLY;BYMONTH=10;BYDAY=-1SU
END:STANDARD
END:VTIMEZONE
BEGIN:VEVENT
UID:2636007:Event:65443
DTSTAMP:20260422T095204Z
SUMMARY:Callaway Citizens for FairTax
DESCRIPTION:Callaway Citizens for FairTax will hold its first meeting 
 in Fulton, Missouri on July 2nd. Our goal is to educate Callaway citiz
 ens about the advantages of the FairTax at both the state and national
  level.\n\nFor more information visit http://www.fairtaxnation.com/eve
 nts/callaway-citizens-for-fairtax
DTSTART;TZID=America/Cancun:20090702T190000
DTEND;TZID=America/Cancun:20090702T200000
CATEGORIES:informational, nonpartisan
LOCATION:Callaway County Public Library -Friends Room A
WEBSITE:http://www.dbrl.org/callaway-county-public-library
URL:http://www.dbrl.org/callaway-county-public-library
CONTACT:573-642-7540
ORGANIZER;CN="Beverly Martin":http://www.fairtaxnation.com/profile/Bev
 erlyMartin
ATTACH;FMTTYPE="image/jpeg":http://storage.ning.com/topology/rest/1.0/
 file/get/1080588328?profile=original
ATTENDEE;ROLE=REQ-PARTICIPANT;PARTSTAT=ACCEPTED;RSVP=TRUE;CN="Beverly 
 Martin":http://www.fairtaxnation.com/profile/BeverlyMartin
END:VEVENT
END:VCALENDAR
