BEGIN:VCALENDAR
PRODID:NingEventWidget-v1
VERSION:2.0
METHOD:PUBLISH
BEGIN:VTIMEZONE
TZID:America/Cancun
X-LIC-LOCATION:America/Cancun
BEGIN:DAYLIGHT
TZOFFSETFROM:-0600
TZOFFSETTO:-0500
TZNAME:CDT
DTSTART:19700405T020000
RRULE:FREQ=YEARLY;BYMONTH=4;BYDAY=1SU
END:DAYLIGHT
BEGIN:STANDARD
TZOFFSETFROM:-0500
TZOFFSETTO:-0600
TZNAME:CST
DTSTART:19701025T020000
RRULE:FREQ=YEARLY;BYMONTH=10;BYDAY=-1SU
END:STANDARD
END:VTIMEZONE
BEGIN:VEVENT
UID:2636007:Event:91892
DTSTAMP:20260422T184332Z
SUMMARY:Carrollton, GA GOOOH Workshop
DESCRIPTION:Metro Atlanta GOOOH Meetup Group\nHere is another opportun
 ity to introduce new people to GOOOH, and gain a better understanding 
 of the GOOOH process. Please make every effort to attend to learn how 
 exactly GOOOH will be the key to passing the Fair Tax.\n\nFor more inf
 ormation visit http://www.fairtaxnation.com/events/carrollton-ga-goooh
 -workshop
DTSTART;TZID=America/Cancun:20100206T133000
DTEND;TZID=America/Cancun:20100206T160000
CATEGORIES:meeting
LOCATION:Neva Lomason Memeorial Library
WEBSITE:http://www.google.com/url?q=http%3A%2F%2Fwww.meetup.com%2FMetr
 oATL-GOOOH%2Fcalendar%2F12308270%2F&usd=2&usg=AFQjCNGlPtFXyibYH9SgrmEd
 2utc0Syqjw
URL:http://www.google.com/url?q=http%3A%2F%2Fwww.meetup.com%2FMetroATL
 -GOOOH%2Fcalendar%2F12308270%2F&usd=2&usg=AFQjCNGlPtFXyibYH9SgrmEd2utc
 0Syqjw
CONTACT:770-617-8073
ORGANIZER;CN="Daniel Seedorf":http://www.fairtaxnation.com/profile/Dan
 ielSeedorf
ATTACH;FMTTYPE="image/jpeg":
ATTENDEE;ROLE=REQ-PARTICIPANT;PARTSTAT=ACCEPTED;RSVP=TRUE;CN="Daniel S
 eedorf":http://www.fairtaxnation.com/profile/DanielSeedorf
END:VEVENT
END:VCALENDAR
