BEGIN:VCALENDAR
PRODID:NingEventWidget-v1
VERSION:2.0
METHOD:PUBLISH
BEGIN:VTIMEZONE
TZID:America/Cancun
X-LIC-LOCATION:America/Cancun
BEGIN:DAYLIGHT
TZOFFSETFROM:-0600
TZOFFSETTO:-0500
TZNAME:CDT
DTSTART:19700405T020000
RRULE:FREQ=YEARLY;BYMONTH=4;BYDAY=1SU
END:DAYLIGHT
BEGIN:STANDARD
TZOFFSETFROM:-0500
TZOFFSETTO:-0600
TZNAME:CST
DTSTART:19701025T020000
RRULE:FREQ=YEARLY;BYMONTH=10;BYDAY=-1SU
END:STANDARD
END:VTIMEZONE
BEGIN:VEVENT
UID:2636007:Event:26497
DTSTAMP:20260424T013150Z
SUMMARY:Chippewa Valley FairTax Organize for Post Office Push
DESCRIPTION:Chippewa Valley FairTax will be holding a meeting to organ
 ize for the Post Office Push. We need all of our local supporters to c
 ome out in force and help man the tables and hold up banners and signs
 . We'll get everyone signed up and assigned to time slots.\nWe will al
 so be having our informational talk for the general public and those n
 ot yet familiar with the FairTax and what it is we do.\nThe Town Hall 
 is east of Walmart on OO to left on 130th St, 1/2 mile on right.\n\nFo
 r more information visit http://www.fairtaxnation.com/events/chippewa-
 valley-fairtax
DTSTART;TZID=America/Cancun:20090331T183000
DTEND;TZID=America/Cancun:20090331T193000
CATEGORIES:meeting, seminar
LOCATION:Village Lake Hallie Town Hall
WEBSITE:http://maps.google.com/?ie=UTF8&ll=44.880809,-91.413631&spn=0.
 031686,0.076904&z=14
URL:http://maps.google.com/?ie=UTF8&ll=44.880809,-91.413631&spn=0.0316
 86,0.076904&z=14
CONTACT:715-559-4204
ORGANIZER;CN="Bob Martin":http://www.fairtaxnation.com/profile/BobMart
 in
ATTACH;FMTTYPE="image/jpeg":http://storage.ning.com/topology/rest/1.0/
 file/get/1080576411?profile=original
ATTENDEE;ROLE=REQ-PARTICIPANT;PARTSTAT=ACCEPTED;RSVP=TRUE;CN="Ed Holan
 d":http://www.fairtaxnation.com/profile/EdHoland
ATTENDEE;ROLE=REQ-PARTICIPANT;PARTSTAT=ACCEPTED;RSVP=TRUE;CN="Lance V 
 Nielsen":http://www.fairtaxnation.com/profile/LanceVNielsen
ATTENDEE;ROLE=REQ-PARTICIPANT;PARTSTAT=ACCEPTED;RSVP=TRUE;CN="Bob Mart
 in":http://www.fairtaxnation.com/profile/BobMartin
END:VEVENT
END:VCALENDAR
