BEGIN:VCALENDAR
PRODID:NingEventWidget-v1
VERSION:2.0
METHOD:PUBLISH
BEGIN:VTIMEZONE
TZID:America/Cancun
X-LIC-LOCATION:America/Cancun
BEGIN:DAYLIGHT
TZOFFSETFROM:-0600
TZOFFSETTO:-0500
TZNAME:CDT
DTSTART:19700405T020000
RRULE:FREQ=YEARLY;BYMONTH=4;BYDAY=1SU
END:DAYLIGHT
BEGIN:STANDARD
TZOFFSETFROM:-0500
TZOFFSETTO:-0600
TZNAME:CST
DTSTART:19701025T020000
RRULE:FREQ=YEARLY;BYMONTH=10;BYDAY=-1SU
END:STANDARD
END:VTIMEZONE
BEGIN:VEVENT
UID:2636007:Event:91142
DTSTAMP:20260423T010741Z
SUMMARY:Cincinnati Area Fair Tax Group
DESCRIPTION:We will discuss the Fair Tax benefits including replacemen
 t of Individual and Corporate Income Taxes, payroll, self-employment, 
 capital gains, estate, gift, and alternate minimum taxes, as well as e
 liminating the IRS.\n\nFor more information visit http://www.fairtaxna
 tion.com/events/cincinnati-area-fair-tax-group
DTSTART;TZID=America/Cancun:20100125T190000
DTEND;TZID=America/Cancun:20100125T203000
CATEGORIES:discussiongroup
LOCATION:Sharonville Public Library, 10980 Thornview Drive, Sharonvill
 e, Ohio
WEBSITE:
URL:
CONTACT:
ORGANIZER;CN="Eugene Richard Carroll":http://www.fairtaxnation.com/pro
 file/EugeneRichardCarroll
ATTACH;FMTTYPE="image/jpeg":
ATTENDEE;ROLE=REQ-PARTICIPANT;PARTSTAT=ACCEPTED;RSVP=TRUE;CN=Billie:ht
 tp://www.fairtaxnation.com/profile/Billie
ATTENDEE;ROLE=REQ-PARTICIPANT;PARTSTAT=ACCEPTED;RSVP=TRUE;CN="Barbara 
 Wilson":http://www.fairtaxnation.com/profile/Barbara
ATTENDEE;ROLE=REQ-PARTICIPANT;PARTSTAT=ACCEPTED;RSVP=TRUE;CN="Eugene R
 ichard Carroll":http://www.fairtaxnation.com/profile/EugeneRichardCarr
 oll
END:VEVENT
END:VCALENDAR
