BEGIN:VCALENDAR
PRODID:NingEventWidget-v1
VERSION:2.0
METHOD:PUBLISH
BEGIN:VTIMEZONE
TZID:America/Cancun
X-LIC-LOCATION:America/Cancun
BEGIN:DAYLIGHT
TZOFFSETFROM:-0600
TZOFFSETTO:-0500
TZNAME:CDT
DTSTART:19700405T020000
RRULE:FREQ=YEARLY;BYMONTH=4;BYDAY=1SU
END:DAYLIGHT
BEGIN:STANDARD
TZOFFSETFROM:-0500
TZOFFSETTO:-0600
TZNAME:CST
DTSTART:19701025T020000
RRULE:FREQ=YEARLY;BYMONTH=10;BYDAY=-1SU
END:STANDARD
END:VTIMEZONE
BEGIN:VEVENT
UID:2636007:Event:88083
DTSTAMP:20260421T083559Z
SUMMARY:Cincinnati Fair Tax Group
DESCRIPTION:Let's get the Cincy fair tax folks going again.\n\nFor mor
 e information visit http://www.fairtaxnation.com/events/cincinnati-fai
 r-tax-group
DTSTART;TZID=America/Cancun:20091222T190000
DTEND;TZID=America/Cancun:20091222T203000
CATEGORIES:info, meeting
LOCATION:Sharonville Branch Public Library
WEBSITE:
URL:
CONTACT:
ORGANIZER;CN="Phil Claypool":http://www.fairtaxnation.com/profile/Phil
ATTACH;FMTTYPE="image/jpeg":http://storage.ning.com/topology/rest/1.0/
 file/get/1080593425?profile=original
ATTENDEE;ROLE=REQ-PARTICIPANT;PARTSTAT=ACCEPTED;RSVP=TRUE;CN="Barbara 
 Wilson":http://www.fairtaxnation.com/profile/Barbara
ATTENDEE;ROLE=REQ-PARTICIPANT;PARTSTAT=ACCEPTED;RSVP=TRUE;CN=Billie:ht
 tp://www.fairtaxnation.com/profile/Billie
ATTENDEE;ROLE=REQ-PARTICIPANT;PARTSTAT=ACCEPTED;RSVP=TRUE;CN="Phil Cla
 ypool":http://www.fairtaxnation.com/profile/Phil
END:VEVENT
END:VCALENDAR
