BEGIN:VCALENDAR
PRODID:NingEventWidget-v1
VERSION:2.0
METHOD:PUBLISH
BEGIN:VTIMEZONE
TZID:America/Cancun
X-LIC-LOCATION:America/Cancun
BEGIN:DAYLIGHT
TZOFFSETFROM:-0600
TZOFFSETTO:-0500
TZNAME:CDT
DTSTART:19700405T020000
RRULE:FREQ=YEARLY;BYMONTH=4;BYDAY=1SU
END:DAYLIGHT
BEGIN:STANDARD
TZOFFSETFROM:-0500
TZOFFSETTO:-0600
TZNAME:CST
DTSTART:19701025T020000
RRULE:FREQ=YEARLY;BYMONTH=10;BYDAY=-1SU
END:STANDARD
END:VTIMEZONE
BEGIN:VEVENT
UID:2636007:Event:92390
DTSTAMP:20260421T064006Z
SUMMARY:Cincinnati, OH FairTax Meeting
DESCRIPTION:Eugene Richard Carroll's event Cincinnati Area Fair Tax Gr
 oup at Sharonville Public Library, 10980 Thornview Drive, Sharonville,
  Ohio\nMarch 25, 2010 from 7pm to 8:30pm\nWe will discuss the Fair Tax
  benefits including replacement of Individual and Corporate Income Tax
 es, payroll, self-employment, capital gains, estate, gift, and alterna
 te minimum taxes, as well as eliminating the IRS.\n\nFor more informat
 ion visit http://www.fairtaxnation.com/events/cincinnati-oh-fairtax-me
 eting-1
DTSTART;TZID=America/Cancun:20100325T190000
DTEND;TZID=America/Cancun:20100325T203000
CATEGORIES:fairtax, meeting
LOCATION:Sharonville Public Library
WEBSITE:http://www.OHFairTax.org
URL:http://www.OHFairTax.org
CONTACT:
ORGANIZER:Gene Carroll
ATTACH;FMTTYPE="image/jpeg":
ATTENDEE;ROLE=REQ-PARTICIPANT;PARTSTAT=ACCEPTED;RSVP=TRUE;CN="Barbara 
 Wilson":http://www.fairtaxnation.com/profile/Barbara
ATTENDEE;ROLE=REQ-PARTICIPANT;PARTSTAT=ACCEPTED;RSVP=TRUE;CN="Melissa 
 May":http://www.fairtaxnation.com/profile/MelissaMay
ATTENDEE;ROLE=REQ-PARTICIPANT;PARTSTAT=ACCEPTED;RSVP=TRUE;CN=Billie:ht
 tp://www.fairtaxnation.com/profile/Billie
END:VEVENT
END:VCALENDAR
