BEGIN:VCALENDAR
PRODID:NingEventWidget-v1
VERSION:2.0
METHOD:PUBLISH
BEGIN:VTIMEZONE
TZID:America/Cancun
X-LIC-LOCATION:America/Cancun
BEGIN:DAYLIGHT
TZOFFSETFROM:-0600
TZOFFSETTO:-0500
TZNAME:CDT
DTSTART:19700405T020000
RRULE:FREQ=YEARLY;BYMONTH=4;BYDAY=1SU
END:DAYLIGHT
BEGIN:STANDARD
TZOFFSETFROM:-0500
TZOFFSETTO:-0600
TZNAME:CST
DTSTART:19701025T020000
RRULE:FREQ=YEARLY;BYMONTH=10;BYDAY=-1SU
END:STANDARD
END:VTIMEZONE
BEGIN:VEVENT
UID:2636007:Event:95428
DTSTAMP:20260421T043944Z
SUMMARY:Cincinnati, OH GOOOH Meetup
DESCRIPTION:Cincinnati GOOOH Meetup- \"Get Out Of Our House\"\nMeetup 
 Sunday, March 21, 2010 2:00 PM!\n\nWhat:\nCincinnati GOOOH Features Fa
 ir Tax Speaker\n\nWhen\n\nSunday, March 21, 2010 2:00 PM\n\nWhere:\nUn
 ion Township Civic Center\n4350 Aicholtz Rd.\nCincinnati OH 45245\n\n\
 nRSVP Now\n\nHere's what people are saying about this Meetup Group\n\n
 \"Anyone interested in creating a US House of Representatives with con
 servative/libertarian principled members.\"\n— Impchob\n\n\"YOU HAVE
  GOT TO SEE THIS!! Great stuff.\"\n— Glen Sorensen\n\nLearn more abo
 ut this Meetup\n\n\nMeetup Description\nAs part of our educational eff
 orts, we will be featuring a speaker from Ohio's Fair Tax Organization
 . Please join us to learn more. You may also want to visit the followi
 ng websites prior to the meeting.\n\nwww.fairtax.org\nwww.ohfairtax.or
 g\n\nWe look forward to seeing you soon!\n\nFor more information visit
  http://www.fairtaxnation.com/events/cincinnati-oh-goooh-meetup
DTSTART;TZID=America/Cancun:20100321T140000
DTEND;TZID=America/Cancun:20100321T160000
CATEGORIES:goooh, meetup
LOCATION:Union Twp Civic Center
WEBSITE:
URL:
CONTACT:
ORGANIZER:GOOOH
ATTACH;FMTTYPE="image/jpeg":
ATTENDEE;ROLE=REQ-PARTICIPANT;PARTSTAT=ACCEPTED;RSVP=TRUE;CN=Billie:ht
 tp://www.fairtaxnation.com/profile/Billie
END:VEVENT
END:VCALENDAR
