BEGIN:VCALENDAR
PRODID:NingEventWidget-v1
VERSION:2.0
METHOD:PUBLISH
BEGIN:VTIMEZONE
TZID:America/Cancun
X-LIC-LOCATION:America/Cancun
BEGIN:DAYLIGHT
TZOFFSETFROM:-0600
TZOFFSETTO:-0500
TZNAME:CDT
DTSTART:19700405T020000
RRULE:FREQ=YEARLY;BYMONTH=4;BYDAY=1SU
END:DAYLIGHT
BEGIN:STANDARD
TZOFFSETFROM:-0500
TZOFFSETTO:-0600
TZNAME:CST
DTSTART:19701025T020000
RRULE:FREQ=YEARLY;BYMONTH=10;BYDAY=-1SU
END:STANDARD
END:VTIMEZONE
BEGIN:VEVENT
UID:2636007:Event:93009
DTSTAMP:20260422T172742Z
SUMMARY:Clayton Englewood OH Liberty Group Meeting
DESCRIPTION:Clayton Englewood Liberty Group Meeting\nTo members of CLE
 AN SWEEP in 2010 - VOTE OUT ALL INCUMBENTS\nThe Clayton Englewood Libe
 rty Group meeting Tuesday February 9th @ 7:00 PM will feature the musi
 c of Dan Rivers. Dan will also be addressing our members with his pass
 ion for Liberty and Freedom. Meeting is at the Englewood Holiday Inn o
 n State Route 48 (Main St) at the I-70 overpass. Check out our website
  for more detail.\n\nhttp://www.claytonenglewoodliberty.org\n\nThanks,
 \n\nBen Jones\n\nFor more information visit http://www.fairtaxnation.c
 om/events/clayton-englewood-oh-liberty
DTSTART;TZID=America/Cancun:20100209T190000
DTEND;TZID=America/Cancun:20100209T210000
CATEGORIES:liberty, group, "+", friends
LOCATION:Englewood Holiday Inn
WEBSITE:http://www.claytonenglewoodliberty.org
URL:http://www.claytonenglewoodliberty.org
CONTACT:
ORGANIZER:Ben Jones
ATTACH;FMTTYPE="image/jpeg":
ATTENDEE;ROLE=REQ-PARTICIPANT;PARTSTAT=ACCEPTED;RSVP=TRUE;CN=Billie:ht
 tp://www.fairtaxnation.com/profile/Billie
END:VEVENT
END:VCALENDAR
