BEGIN:VCALENDAR
PRODID:NingEventWidget-v1
VERSION:2.0
METHOD:PUBLISH
BEGIN:VTIMEZONE
TZID:America/Cancun
X-LIC-LOCATION:America/Cancun
BEGIN:DAYLIGHT
TZOFFSETFROM:-0600
TZOFFSETTO:-0500
TZNAME:CDT
DTSTART:19700405T020000
RRULE:FREQ=YEARLY;BYMONTH=4;BYDAY=1SU
END:DAYLIGHT
BEGIN:STANDARD
TZOFFSETFROM:-0500
TZOFFSETTO:-0600
TZNAME:CST
DTSTART:19701025T020000
RRULE:FREQ=YEARLY;BYMONTH=10;BYDAY=-1SU
END:STANDARD
END:VTIMEZONE
BEGIN:VEVENT
UID:2636007:Event:96585
DTSTAMP:20260421T101505Z
SUMMARY:Conversation with Jennifer Brunner
DESCRIPTION:Jennifer Meets with Cleveland, OH Stonewall Democrats Marc
 h 14 - 4:30 to 5:30 pm\n\nA CONVERSATION WITH JENNIFER BRUNNER, Ohio S
 ecretary of State\n\nJoin other members of CSD in a conversation with 
 Jennifer Brunner on issues facing the LGBT Community, Ohio and the nat
 ion.\n\nThe Brownhoist Building, 1st Floor\n4403 Saint Clair Avenue, N
 .E.\nCleveland, Ohio 44103-1125\n\n(doors open at 4pm)\nAction CenterV
 olunteer\nTell a Friend\nBecome a Brunner Backer\nSend a Letter to the
  Editor\nHelp Elect Jennifer\n\nFor more information visit http://www.
 fairtaxnation.com/events/conversation-with-jennifer
DTSTART;TZID=America/Cancun:20100314T163000
DTEND;TZID=America/Cancun:20100314T173000
CATEGORIES:townhall, "(?)"
LOCATION:The Brownhoist Bldg, 1st Floor
WEBSITE:
URL:
CONTACT:
ORGANIZER:
ATTACH;FMTTYPE="image/jpeg":
ATTENDEE;ROLE=REQ-PARTICIPANT;PARTSTAT=ACCEPTED;RSVP=TRUE;CN=Billie:ht
 tp://www.fairtaxnation.com/profile/Billie
END:VEVENT
END:VCALENDAR
