BEGIN:VCALENDAR
PRODID:NingEventWidget-v1
VERSION:2.0
METHOD:PUBLISH
BEGIN:VTIMEZONE
TZID:America/Cancun
X-LIC-LOCATION:America/Cancun
BEGIN:DAYLIGHT
TZOFFSETFROM:-0600
TZOFFSETTO:-0500
TZNAME:CDT
DTSTART:19700405T020000
RRULE:FREQ=YEARLY;BYMONTH=4;BYDAY=1SU
END:DAYLIGHT
BEGIN:STANDARD
TZOFFSETFROM:-0500
TZOFFSETTO:-0600
TZNAME:CST
DTSTART:19701025T020000
RRULE:FREQ=YEARLY;BYMONTH=10;BYDAY=-1SU
END:STANDARD
END:VTIMEZONE
BEGIN:VEVENT
UID:2636007:Event:92343
DTSTAMP:20260422T202152Z
SUMMARY:Dayton Mall Area FairTax Meeting
DESCRIPTION:We're only as effective as our membership is active\".\n\n
 Please join us for our February meeting and bring a friend!\n\nOur gue
 st speaker will be Eric Deaton, Candidate for Senate. He will share hi
 s positions on a variety of topics, including the FairTax.\n\nP.S. Fai
 rtax gear, is now being offered at our new on line FairTax store at ww
 w.ohfairtax.org . The Store is new and is currently being worked on to
  get all items listed.\n\nFor more information visit http://www.fairta
 xnation.com/events/dayton-mall-area-fairtax-1
DTSTART;TZID=America/Cancun:20100203T183000
DTEND;TZID=America/Cancun:20100203T200000
CATEGORIES:fairtax, meeting
LOCATION:Miami Twp Library
WEBSITE:
URL:
CONTACT:937-298-5092
ORGANIZER;CN="Barbara Wilson":http://www.fairtaxnation.com/profile/Bar
 bara
ATTACH;FMTTYPE="image/jpeg":
ATTENDEE;ROLE=REQ-PARTICIPANT;PARTSTAT=ACCEPTED;RSVP=TRUE;CN=Billie:ht
 tp://www.fairtaxnation.com/profile/Billie
ATTENDEE;ROLE=REQ-PARTICIPANT;PARTSTAT=ACCEPTED;RSVP=TRUE;CN="Barbara 
 Wilson":http://www.fairtaxnation.com/profile/Barbara
END:VEVENT
END:VCALENDAR
