BEGIN:VCALENDAR
PRODID:NingEventWidget-v1
VERSION:2.0
METHOD:PUBLISH
BEGIN:VTIMEZONE
TZID:America/Cancun
X-LIC-LOCATION:America/Cancun
BEGIN:DAYLIGHT
TZOFFSETFROM:-0600
TZOFFSETTO:-0500
TZNAME:CDT
DTSTART:19700405T020000
RRULE:FREQ=YEARLY;BYMONTH=4;BYDAY=1SU
END:DAYLIGHT
BEGIN:STANDARD
TZOFFSETFROM:-0500
TZOFFSETTO:-0600
TZNAME:CST
DTSTART:19701025T020000
RRULE:FREQ=YEARLY;BYMONTH=10;BYDAY=-1SU
END:STANDARD
END:VTIMEZONE
BEGIN:VEVENT
UID:2636007:Event:36436
DTSTAMP:20260424T030314Z
SUMMARY:Dayton Mall Area FairTax monthly meeting
DESCRIPTION:Dayton Mall Area monthly meeting\nFirst Wed. of Month Apri
 l1, 2009\nLocation: Miami Twp Library Time: 7pm to 8:30 pm\nStreet: 27
 18 Lyons Road (next to the Bus Terminal).\nCity/Town: Miamisburg, Ohio
  45342\nContact Info: 937.298.5092 Barbara Wilson/ or Paul Hoffman 937
 .287.7256\nEvent Type: Monthly, FairTax meeting\n\nFor more informatio
 n visit http://www.fairtaxnation.com/events/dayton-mall-area-fairtax
DTSTART;TZID=America/Cancun:20090401T190000
DTEND;TZID=America/Cancun:20090401T203000
CATEGORIES:fairtax, monthly, meeting
LOCATION:Miami Twp Library / next to the Bus Terminal
WEBSITE:
URL:
CONTACT:937-298-5092
ORGANIZER;CN="Barbara Wilson":http://www.fairtaxnation.com/profile/Bar
 bara
ATTACH;FMTTYPE="image/jpeg":
ATTENDEE;ROLE=REQ-PARTICIPANT;PARTSTAT=ACCEPTED;RSVP=TRUE;CN="Barbara 
 Wilson":http://www.fairtaxnation.com/profile/Barbara
END:VEVENT
END:VCALENDAR
