BEGIN:VCALENDAR
PRODID:NingEventWidget-v1
VERSION:2.0
METHOD:PUBLISH
BEGIN:VTIMEZONE
TZID:America/Cancun
X-LIC-LOCATION:America/Cancun
BEGIN:DAYLIGHT
TZOFFSETFROM:-0600
TZOFFSETTO:-0500
TZNAME:CDT
DTSTART:19700405T020000
RRULE:FREQ=YEARLY;BYMONTH=4;BYDAY=1SU
END:DAYLIGHT
BEGIN:STANDARD
TZOFFSETFROM:-0500
TZOFFSETTO:-0600
TZNAME:CST
DTSTART:19701025T020000
RRULE:FREQ=YEARLY;BYMONTH=10;BYDAY=-1SU
END:STANDARD
END:VTIMEZONE
BEGIN:VEVENT
UID:2636007:Event:26070
DTSTAMP:20260424T092451Z
SUMMARY:Dayton Mall Area monthly meeting
DESCRIPTION:Dayton Mall Area monthly meeting\nWed., March 4, 2009 from
  7pm to 8:30pm – Miami Twp Library, Our monthly meeting is held at t
 he Miami Township Library on Lyons Rd, Miamisburg, OH near the Bus Ter
 minal. The public is invited and we would love to see you there. Organ
 ized by Barbara Wilson & Paul Hoffman |Contact Barbara Wilson bgw366@w
 oh.rr.com / 937.298.5092 if you need a ride to any of our meetings.\n\
 nFor more information visit http://www.fairtaxnation.com/events/dayton
 -mall-area-monthly-1
DTSTART;TZID=America/Cancun:20090304T190000
DTEND;TZID=America/Cancun:20090304T203000
CATEGORIES:monthly, meeting
LOCATION:Miami Twp Library
WEBSITE:
URL:
CONTACT:937-298-5092
ORGANIZER;CN="Barbara Wilson":http://www.fairtaxnation.com/profile/Bar
 bara
ATTACH;FMTTYPE="image/jpeg":http://storage.ning.com/topology/rest/1.0/
 file/get/1080577199?profile=original
ATTENDEE;ROLE=REQ-PARTICIPANT;PARTSTAT=ACCEPTED;RSVP=TRUE;CN="Barbara 
 Wilson":http://www.fairtaxnation.com/profile/Barbara
ATTENDEE;ROLE=REQ-PARTICIPANT;PARTSTAT=ACCEPTED;RSVP=TRUE;CN="Phil Cla
 ypool":http://www.fairtaxnation.com/profile/Phil
END:VEVENT
END:VCALENDAR
