BEGIN:VCALENDAR
PRODID:NingEventWidget-v1
VERSION:2.0
METHOD:PUBLISH
BEGIN:VTIMEZONE
TZID:America/Cancun
X-LIC-LOCATION:America/Cancun
BEGIN:DAYLIGHT
TZOFFSETFROM:-0600
TZOFFSETTO:-0500
TZNAME:CDT
DTSTART:19700405T020000
RRULE:FREQ=YEARLY;BYMONTH=4;BYDAY=1SU
END:DAYLIGHT
BEGIN:STANDARD
TZOFFSETFROM:-0500
TZOFFSETTO:-0600
TZNAME:CST
DTSTART:19701025T020000
RRULE:FREQ=YEARLY;BYMONTH=10;BYDAY=-1SU
END:STANDARD
END:VTIMEZONE
BEGIN:VEVENT
UID:2636007:Event:85862
DTSTAMP:20260422T101436Z
SUMMARY:Dayton Mall Area monthly meeting
DESCRIPTION:Please join us and bring a friend!\n\nJohn Mitchel will be
  doing a presentation on the \"Precinct Project\"\nFinal night for you
 r input for our 5 minute \"Teach Three Presentation\"\nP.S. FairTax ge
 ar, is now being offered at our new on line Fairtax store at www.ohfai
 rtax.org . The Store is new and is currently being worked on to get al
 l items listed.\n\nFor more information visit http://www.fairtaxnation
 .com/events/dayton-mall-area-monthly-3
DTSTART;TZID=America/Cancun:20091007T183000
DTEND;TZID=America/Cancun:20091007T200000
CATEGORIES:fairtax, meeting
LOCATION:Miami Twp Library
WEBSITE:
URL:
CONTACT:937.298.5092
ORGANIZER:Barbara Wilson / Paul Hoffman
ATTACH;FMTTYPE="image/jpeg":
ATTENDEE;ROLE=REQ-PARTICIPANT;PARTSTAT=ACCEPTED;RSVP=TRUE;CN="Phil Cla
 ypool":http://www.fairtaxnation.com/profile/Phil
ATTENDEE;ROLE=REQ-PARTICIPANT;PARTSTAT=ACCEPTED;RSVP=TRUE;CN=Billie:ht
 tp://www.fairtaxnation.com/profile/Billie
ATTENDEE;ROLE=REQ-PARTICIPANT;PARTSTAT=ACCEPTED;RSVP=TRUE;CN="Barbara 
 Wilson":http://www.fairtaxnation.com/profile/Barbara
END:VEVENT
END:VCALENDAR
