BEGIN:VCALENDAR
PRODID:NingEventWidget-v1
VERSION:2.0
METHOD:PUBLISH
BEGIN:VTIMEZONE
TZID:America/Cancun
X-LIC-LOCATION:America/Cancun
BEGIN:DAYLIGHT
TZOFFSETFROM:-0600
TZOFFSETTO:-0500
TZNAME:CDT
DTSTART:19700405T020000
RRULE:FREQ=YEARLY;BYMONTH=4;BYDAY=1SU
END:DAYLIGHT
BEGIN:STANDARD
TZOFFSETFROM:-0500
TZOFFSETTO:-0600
TZNAME:CST
DTSTART:19701025T020000
RRULE:FREQ=YEARLY;BYMONTH=10;BYDAY=-1SU
END:STANDARD
END:VTIMEZONE
BEGIN:VEVENT
UID:2636007:Event:134854
DTSTAMP:20260425T112900Z
SUMMARY:Dayton Mall FairTax Meeting
DESCRIPTION:\"We're only as effective as our membership is active\".\n
  \n\n\nDayton Mall Area monthly meeting\n\nFirst Wed. of Month  Apr
 il 6, 2011 \nLocation: Panera Bread Time: 6:30pm to 8:00 pm\nStree
 t: 2500 Miamisburg-Centerville Rd (Dayton Mall Rt 725).City/Town: Da
 yton, Ohio\nContact Info: 937.298.5092 Barbara Wilson/ or Paul Hoffman
  937.287.7256 \nEvent Type: Monthly, FairTax meeting\nOrganized By: 
 Barbara Wilson and Paul Hoffman\n\n\nFor more information visit http:/
 /www.fairtaxnation.com/events/dayton-mall-fairtax-meeting
DTSTART;TZID=America/Cancun:20110406T183000
DTEND;TZID=America/Cancun:20110406T200000
CATEGORIES:monthly, fairtax, meeting
LOCATION:Panera Bread/ Dayton Mall
WEBSITE:
URL:
CONTACT:937-298-5092
ORGANIZER;CN="Barbara Wilson":http://www.fairtaxnation.com/profile/Bar
 bara
ATTACH;FMTTYPE="image/jpeg":
ATTENDEE;ROLE=REQ-PARTICIPANT;PARTSTAT=ACCEPTED;RSVP=TRUE;CN="Barbara 
 Wilson":http://www.fairtaxnation.com/profile/Barbara
END:VEVENT
END:VCALENDAR
