BEGIN:VCALENDAR
PRODID:NingEventWidget-v1
VERSION:2.0
METHOD:PUBLISH
BEGIN:VTIMEZONE
TZID:America/Cancun
X-LIC-LOCATION:America/Cancun
BEGIN:DAYLIGHT
TZOFFSETFROM:-0600
TZOFFSETTO:-0500
TZNAME:CDT
DTSTART:19700405T020000
RRULE:FREQ=YEARLY;BYMONTH=4;BYDAY=1SU
END:DAYLIGHT
BEGIN:STANDARD
TZOFFSETFROM:-0500
TZOFFSETTO:-0600
TZNAME:CST
DTSTART:19701025T020000
RRULE:FREQ=YEARLY;BYMONTH=10;BYDAY=-1SU
END:STANDARD
END:VTIMEZONE
BEGIN:VEVENT
UID:2636007:Event:65627
DTSTAMP:20260422T070027Z
SUMMARY:Dayton Mall Monthly FairTax Meeting
DESCRIPTION:Dayton Mall Monthly FairTax Meeting\nJuly 1, 2009 from 6:3
 0pm to 8:15pm – Miami Twp Library (next to the Bus Terminal)\nPlease
  join us and bring a friend! We are as effective as our membership is 
 active!\n\nOrganized by Paul Hoffman & Barbara Wilson | Type: monthly,
  fairtax, meeting, first, wed, of, month\n\nFor more information visit
  http://www.fairtaxnation.com/events/dayton-mall-monthly-fairtax-1
DTSTART;TZID=America/Cancun:20090701T183000
DTEND;TZID=America/Cancun:20090701T201500
CATEGORIES:monthly, fairtax, meeting
LOCATION:Miami Twp Library
WEBSITE:
URL:
CONTACT:937.298.5092 / 937.287.7256
ORGANIZER:Barbara Wilson / Paul Hoffman
ATTACH;FMTTYPE="image/jpeg":
ATTENDEE;ROLE=REQ-PARTICIPANT;PARTSTAT=ACCEPTED;RSVP=TRUE;CN=Billie:ht
 tp://www.fairtaxnation.com/profile/Billie
ATTENDEE;ROLE=REQ-PARTICIPANT;PARTSTAT=ACCEPTED;RSVP=TRUE;CN="Phil Cla
 ypool":http://www.fairtaxnation.com/profile/Phil
ATTENDEE;ROLE=REQ-PARTICIPANT;PARTSTAT=ACCEPTED;RSVP=TRUE;CN="Barbara 
 Wilson":http://www.fairtaxnation.com/profile/Barbara
END:VEVENT
END:VCALENDAR
