BEGIN:VCALENDAR
PRODID:NingEventWidget-v1
VERSION:2.0
METHOD:PUBLISH
BEGIN:VTIMEZONE
TZID:America/Cancun
X-LIC-LOCATION:America/Cancun
BEGIN:DAYLIGHT
TZOFFSETFROM:-0600
TZOFFSETTO:-0500
TZNAME:CDT
DTSTART:19700405T020000
RRULE:FREQ=YEARLY;BYMONTH=4;BYDAY=1SU
END:DAYLIGHT
BEGIN:STANDARD
TZOFFSETFROM:-0500
TZOFFSETTO:-0600
TZNAME:CST
DTSTART:19701025T020000
RRULE:FREQ=YEARLY;BYMONTH=10;BYDAY=-1SU
END:STANDARD
END:VTIMEZONE
BEGIN:VEVENT
UID:2636007:Event:165480
DTSTAMP:20260424T005759Z
SUMMARY:Dayton Mall (OH) FairTax Meeting
DESCRIPTION:The FairTax : Once you understand it- You will demand it!\
 n   http://www.ohfairtax.org/\n\"We're only as effective as our memb
 ership is active\".\n \n\n\n\n\n\n\n\n\n \nJenn Weyland of Cynthiana
 , Ky will be doing her new FairTax presentation.  Join us and bring a
  friend!\nPlease bring information on any Fairs, Festivals, Parades th
 at you would like to participate in this year.\n\n\n\n \nA new Member
 ship Map has been added to www.FairTaxnation.com Locate yourself on th
 e map. Lets make Ohio Number ONE ! Be sure to ZOOM In on USA and then 
 your location.\nhttp://www.fairtaxnation.com/opensocial/ningapps/show?
 appUrl=http%3A%2F%2Fapps.io%2Fuser-map%2F%3Fning-app-status%3Dnetwork&
 owner=3l789pzqjiykw&xgs=1&xg_source=msg_share_url\nPlease check out  
 www.popvox.com\nWith PopVox you can:\n     Find a Bill you care ab
 out like H.R. 25 /S 13 or any other Bill of interest to you.\n    
  See how your Representatives vote on any Bill\n     Oppose or Sup
 port any Bill and Share your opinon with Congress and the world if you
  choose\nI encourage you to check Popvox, I think you will find it ver
 y useful!\n \n\n\nFor more information visit http://www.fairtaxnation
 .com/events/dayton-mall-oh-fairtax-meeting-11
DTSTART;TZID=America/Cancun:20120404T183000
DTEND;TZID=America/Cancun:20120404T200000
CATEGORIES:monthly, fairtax, meeting
LOCATION:Miami Twp Government Center
WEBSITE:http://www.OHFairTax.org
URL:http://www.OHFairTax.org
CONTACT:937.298.5092 Barbara Wilson/ or Paul Hoffman 937.287.7256
ORGANIZER:Barbara Wilson & Paul Hoffman
ATTACH;FMTTYPE="image/jpeg":
ATTENDEE;ROLE=REQ-PARTICIPANT;PARTSTAT=ACCEPTED;RSVP=TRUE;CN=Billie:ht
 tp://www.fairtaxnation.com/profile/Billie
END:VEVENT
END:VCALENDAR
