BEGIN:VCALENDAR
PRODID:NingEventWidget-v1
VERSION:2.0
METHOD:PUBLISH
BEGIN:VTIMEZONE
TZID:America/Cancun
X-LIC-LOCATION:America/Cancun
BEGIN:DAYLIGHT
TZOFFSETFROM:-0600
TZOFFSETTO:-0500
TZNAME:CDT
DTSTART:19700405T020000
RRULE:FREQ=YEARLY;BYMONTH=4;BYDAY=1SU
END:DAYLIGHT
BEGIN:STANDARD
TZOFFSETFROM:-0500
TZOFFSETTO:-0600
TZNAME:CST
DTSTART:19701025T020000
RRULE:FREQ=YEARLY;BYMONTH=10;BYDAY=-1SU
END:STANDARD
END:VTIMEZONE
BEGIN:VEVENT
UID:2636007:Event:161944
DTSTAMP:20260424T081728Z
SUMMARY:Dayton Mall (OH) FairTax Meeting
DESCRIPTION:Dayton Mall Area monthly meeting\nFirst Wed. of Month: Feb
 ruary 1\nLocation: Miami Township Government Center\nTime: 6:30pm to 8
 :00 pm\nStreet: 2700 Lyons Road,  City/Town: Miamisburg, OH 45036\nCo
 ntact Info: 937.298.5092 Barbara Wilson/ or Paul Hoffman 937.287.7256\
 nEvent Type: Monthly, FairTax meeting Organized By: Barbara Wilson and
  Paul Hoffman  \nGuest  Speaker, John Anderson\n    John, a FairT
 ax Advocate is running  for US Congressional District 10  against in
 cumbent  Mike Turner.  Please join us to hear what he has to say, we
  will follow up with a Q & A  session.\n \n\nFor more information vi
 sit http://www.fairtaxnation.com/events/dayton-mall-oh-fairtax-meeting
 -9
DTSTART;TZID=America/Cancun:20120201T183000
DTEND;TZID=America/Cancun:20120201T200000
CATEGORIES:monthly, fairtax, meeting
LOCATION:Miami Township Government Center
WEBSITE:http://www.OHFairTax.org
URL:http://www.OHFairTax.org
CONTACT:Contact Info: 937.298.5092 Barbara Wilson/ or Paul Hoffman 937
 .287.7256
ORGANIZER:Barbara Wilson & Paul Hoffman
ATTACH;FMTTYPE="image/jpeg":
ATTENDEE;ROLE=REQ-PARTICIPANT;PARTSTAT=ACCEPTED;RSVP=TRUE;CN="Phil Cla
 ypool":http://www.fairtaxnation.com/profile/Phil
ATTENDEE;ROLE=REQ-PARTICIPANT;PARTSTAT=ACCEPTED;RSVP=TRUE;CN=Billie:ht
 tp://www.fairtaxnation.com/profile/Billie
END:VEVENT
END:VCALENDAR
