BEGIN:VCALENDAR
PRODID:NingEventWidget-v1
VERSION:2.0
METHOD:PUBLISH
BEGIN:VTIMEZONE
TZID:America/Cancun
X-LIC-LOCATION:America/Cancun
BEGIN:DAYLIGHT
TZOFFSETFROM:-0600
TZOFFSETTO:-0500
TZNAME:CDT
DTSTART:19700405T020000
RRULE:FREQ=YEARLY;BYMONTH=4;BYDAY=1SU
END:DAYLIGHT
BEGIN:STANDARD
TZOFFSETFROM:-0500
TZOFFSETTO:-0600
TZNAME:CST
DTSTART:19701025T020000
RRULE:FREQ=YEARLY;BYMONTH=10;BYDAY=-1SU
END:STANDARD
END:VTIMEZONE
BEGIN:VEVENT
UID:2636007:Event:144562
DTSTAMP:20260425T233417Z
SUMMARY:Dayton Mall (OH) Flash
DESCRIPTION:We are planning to do our Wednesday Flash at Far Hills/Rt 
 48 & Whipp Rd at 5 p.m. - 6 p.m.  We could use your help. Please let 
 us know if you plan to attend.\n\nFor more information visit http://ww
 w.fairtaxnation.com/events/dayton-mall-oh-flash
DTSTART;TZID=America/Cancun:20110713T170000
DTEND;TZID=America/Cancun:20110713T180000
CATEGORIES:flash
LOCATION:Far Hills & Whipp Rd
WEBSITE:http://OHFairTax.org
URL:http://OHFairTax.org
CONTACT:937-298-5092
ORGANIZER:Barbara Wilson
ATTACH;FMTTYPE="image/jpeg":
ATTENDEE;ROLE=REQ-PARTICIPANT;PARTSTAT=ACCEPTED;RSVP=TRUE;CN="Rodger L
  Gamblin/Kathleen J. Burch":http://www.fairtaxnation.com/profile/Rodge
 rLGamblinKathleenJBurch
ATTENDEE;ROLE=REQ-PARTICIPANT;PARTSTAT=ACCEPTED;RSVP=TRUE;CN=Billie:ht
 tp://www.fairtaxnation.com/profile/Billie
END:VEVENT
END:VCALENDAR
