BEGIN:VCALENDAR
PRODID:NingEventWidget-v1
VERSION:2.0
METHOD:PUBLISH
BEGIN:VTIMEZONE
TZID:America/Cancun
X-LIC-LOCATION:America/Cancun
BEGIN:DAYLIGHT
TZOFFSETFROM:-0600
TZOFFSETTO:-0500
TZNAME:CDT
DTSTART:19700405T020000
RRULE:FREQ=YEARLY;BYMONTH=4;BYDAY=1SU
END:DAYLIGHT
BEGIN:STANDARD
TZOFFSETFROM:-0500
TZOFFSETTO:-0600
TZNAME:CST
DTSTART:19701025T020000
RRULE:FREQ=YEARLY;BYMONTH=10;BYDAY=-1SU
END:STANDARD
END:VTIMEZONE
BEGIN:VEVENT
UID:2636007:Event:60962
DTSTAMP:20260422T110753Z
SUMMARY:Dayton, OH Tea Party
DESCRIPTION:NEXT Dayton Tea Party Rally\nFiscal restraint, small gover
 nment, free maket, respect for U.S. Constitution\nHost: Dayton Tea Par
 ty\nType: Causes - Rally\nNetwork: Global\nDate: Friday, July 3, 2009\
 nTime: 7:00pm - 10:00pm\nLocation: Golden Gate Park\nEmail: info@dayto
 nohioteaparty.com\n\nFor more information visit http://www.fairtaxnati
 on.com/events/dayton-oh-tea-party
DTSTART;TZID=America/Cancun:20090703T190000
DTEND;TZID=America/Cancun:20090703T220000
CATEGORIES:tea, party
LOCATION:Golden Gate Park, Brookville, OH
WEBSITE:http://info@daytonohioteaparty.com
URL:http://info@daytonohioteaparty.com
CONTACT:
ORGANIZER:Dayton Tea Party
ATTACH;FMTTYPE="image/jpeg":http://storage.ning.com/topology/rest/1.0/
 file/get/1080585695?profile=original
ATTENDEE;ROLE=REQ-PARTICIPANT;PARTSTAT=ACCEPTED;RSVP=TRUE;CN="Phil Cla
 ypool":http://www.fairtaxnation.com/profile/Phil
ATTENDEE;ROLE=REQ-PARTICIPANT;PARTSTAT=ACCEPTED;RSVP=TRUE;CN="Deborah 
 in Ohio":http://www.fairtaxnation.com/profile/DeborahinOhio
ATTENDEE;ROLE=REQ-PARTICIPANT;PARTSTAT=ACCEPTED;RSVP=TRUE;CN="Barbara 
 Wilson":http://www.fairtaxnation.com/profile/Barbara
ATTENDEE;ROLE=REQ-PARTICIPANT;PARTSTAT=ACCEPTED;RSVP=TRUE;CN=Billie:ht
 tp://www.fairtaxnation.com/profile/Billie
END:VEVENT
END:VCALENDAR
