BEGIN:VCALENDAR
PRODID:NingEventWidget-v1
VERSION:2.0
METHOD:PUBLISH
BEGIN:VTIMEZONE
TZID:America/Cancun
X-LIC-LOCATION:America/Cancun
BEGIN:DAYLIGHT
TZOFFSETFROM:-0600
TZOFFSETTO:-0500
TZNAME:CDT
DTSTART:19700405T020000
RRULE:FREQ=YEARLY;BYMONTH=4;BYDAY=1SU
END:DAYLIGHT
BEGIN:STANDARD
TZOFFSETFROM:-0500
TZOFFSETTO:-0600
TZNAME:CST
DTSTART:19701025T020000
RRULE:FREQ=YEARLY;BYMONTH=10;BYDAY=-1SU
END:STANDARD
END:VTIMEZONE
BEGIN:VEVENT
UID:2636007:Event:65630
DTSTAMP:20260422T135545Z
SUMMARY:Dayton Tea Party
DESCRIPTION:We will have a FairTax booth at The Dayton Tea Party.\nVol
 unters Needed to work the booth!\nGolden Gate Park in Brookville, OH T
 he park is located at Upper Lewisburg Salem Road in Brookville, 45309\
 n7pm Fireworks at 10pm\n\nFor more information visit http://www.fairta
 xnation.com/events/dayton-tea-party
DTSTART;TZID=America/Cancun:20090703T190000
DTEND;TZID=America/Cancun:20090703T220000
CATEGORIES:tea, party
LOCATION:Golden Gate Park in Brookville, OH
WEBSITE:
URL:
CONTACT:937.298.5092
ORGANIZER;CN="Barbara Wilson":http://www.fairtaxnation.com/profile/Bar
 bara
ATTACH;FMTTYPE="image/jpeg":
ATTENDEE;ROLE=REQ-PARTICIPANT;PARTSTAT=ACCEPTED;RSVP=TRUE;CN="Barbara 
 Wilson":http://www.fairtaxnation.com/profile/Barbara
END:VEVENT
END:VCALENDAR
