BEGIN:VCALENDAR
PRODID:NingEventWidget-v1
VERSION:2.0
METHOD:PUBLISH
BEGIN:VTIMEZONE
TZID:America/Cancun
X-LIC-LOCATION:America/Cancun
BEGIN:DAYLIGHT
TZOFFSETFROM:-0600
TZOFFSETTO:-0500
TZNAME:CDT
DTSTART:19700405T020000
RRULE:FREQ=YEARLY;BYMONTH=4;BYDAY=1SU
END:DAYLIGHT
BEGIN:STANDARD
TZOFFSETFROM:-0500
TZOFFSETTO:-0600
TZNAME:CST
DTSTART:19701025T020000
RRULE:FREQ=YEARLY;BYMONTH=10;BYDAY=-1SU
END:STANDARD
END:VTIMEZONE
BEGIN:VEVENT
UID:2636007:Event:20381
DTSTAMP:20260424T014905Z
SUMMARY:Defending the American Dream Summit
DESCRIPTION:Join Wisconsin FairTax at the Defending the American Dream
  Summit in Milwaukee March 7th. The summit is being held at the Midwes
 t Airlines Center in the heart of downtown Milwaukee. Wisconsin FairTa
 x will have a booth at this event to help educate and advance the Fair
 Tax cause in Wisconsin. Many of our elected officials will be present.
  They also have a number of speakers including Herman Cain, and Milwau
 kee's Congressman Paul Ryan. Let's show them we are growing in numbers
  and will not let up.\n\nFollow this link for more detailed informatio
 n.\nhttp://defendingthedream.org/WI/\n\nIf you are interested in helpi
 ng us at the booth, contact us at smartytax@sbcglobal.net\n\nFor more 
 information visit http://www.fairtaxnation.com/events/defending-the-am
 erican-dream
DTSTART;TZID=America/Cancun:20090307T083000
DTEND;TZID=America/Cancun:20090307T180000
CATEGORIES:conference
LOCATION:Midwest Airlines Center
WEBSITE:http://defendingthedream.org/WI/
URL:http://defendingthedream.org/WI/
CONTACT:715-559-4204
ORGANIZER:Americans for Prosperity
ATTACH;FMTTYPE="image/jpeg":http://storage.ning.com/topology/rest/1.0/
 file/get/1080575415?profile=original
ATTENDEE;ROLE=REQ-PARTICIPANT;PARTSTAT=ACCEPTED;RSVP=TRUE;CN="Bob Mart
 in":http://www.fairtaxnation.com/profile/BobMartin
END:VEVENT
END:VCALENDAR
