BEGIN:VCALENDAR
PRODID:NingEventWidget-v1
VERSION:2.0
METHOD:PUBLISH
BEGIN:VTIMEZONE
TZID:America/Cancun
X-LIC-LOCATION:America/Cancun
BEGIN:DAYLIGHT
TZOFFSETFROM:-0600
TZOFFSETTO:-0500
TZNAME:CDT
DTSTART:19700405T020000
RRULE:FREQ=YEARLY;BYMONTH=4;BYDAY=1SU
END:DAYLIGHT
BEGIN:STANDARD
TZOFFSETFROM:-0500
TZOFFSETTO:-0600
TZNAME:CST
DTSTART:19701025T020000
RRULE:FREQ=YEARLY;BYMONTH=10;BYDAY=-1SU
END:STANDARD
END:VTIMEZONE
BEGIN:VEVENT
UID:2636007:Event:21197
DTSTAMP:20260423T143002Z
SUMMARY:Diamondback Jubilee
DESCRIPTION:Rattlesnake round up in Lometa Texas just outside of Lampa
 sas. We are setting up a booth to promote awareness of the Fair Tax.\n
 \nFor more information visit http://www.fairtaxnation.com/events/diamo
 ndback-jubilee
DTSTART;TZID=America/Cancun:20090328T000000
DTEND;TZID=America/Cancun:20090328T235900
CATEGORIES:community, fundraiser
LOCATION:Regional Park
WEBSITE:
URL:
CONTACT:
ORGANIZER;CN="Brett Weiss":http://www.fairtaxnation.com/profile/BrettW
 eiss
ATTACH;FMTTYPE="image/jpeg":http://storage.ning.com/topology/rest/1.0/
 file/get/1080575160?profile=original
ATTENDEE;ROLE=REQ-PARTICIPANT;PARTSTAT=ACCEPTED;RSVP=TRUE;CN="James A 
 Woolley":http://www.fairtaxnation.com/profile/JamesAWoolley
ATTENDEE;ROLE=REQ-PARTICIPANT;PARTSTAT=ACCEPTED;RSVP=TRUE;CN="Jim Wrig
 ht":http://www.fairtaxnation.com/profile/JimWright
ATTENDEE;ROLE=REQ-PARTICIPANT;PARTSTAT=ACCEPTED;RSVP=TRUE;CN="Brett We
 iss":http://www.fairtaxnation.com/profile/BrettWeiss
END:VEVENT
END:VCALENDAR
