BEGIN:VCALENDAR
PRODID:NingEventWidget-v1
VERSION:2.0
METHOD:PUBLISH
BEGIN:VTIMEZONE
TZID:America/Cancun
X-LIC-LOCATION:America/Cancun
BEGIN:DAYLIGHT
TZOFFSETFROM:-0600
TZOFFSETTO:-0500
TZNAME:CDT
DTSTART:19700405T020000
RRULE:FREQ=YEARLY;BYMONTH=4;BYDAY=1SU
END:DAYLIGHT
BEGIN:STANDARD
TZOFFSETFROM:-0500
TZOFFSETTO:-0600
TZNAME:CST
DTSTART:19701025T020000
RRULE:FREQ=YEARLY;BYMONTH=10;BYDAY=-1SU
END:STANDARD
END:VTIMEZONE
BEGIN:VEVENT
UID:2636007:Event:21244
DTSTAMP:20260423T160529Z
SUMMARY:District 4 FairTax Meeting
DESCRIPTION:An alternating district meeting between Cary and Durham NC
 . This meeting is to organize the FairTax supporters in the northern p
 art of the district. It will be held in the Durham Library in the Stan
 ford L. Warren Meeting Room - #1\n\nPlease come with ideas of how to g
 et the word out, places we may set up a table, and most importantly, y
 our friends too.\n\nThis is an introductory meeting, and I am planning
  on having the meetings rotate throughout the 4th district. in the fut
 ure so no one has to always drive the large distance.\n\nAn agenda wil
 l be posted when available.\n\nFor more information visit http://www.f
 airtaxnation.com/events/district-4-fairtax-meeting
DTSTART;TZID=America/Cancun:20090328T110000
DTEND;TZID=America/Cancun:20090328T123000
CATEGORIES:district, meeting
LOCATION:Durham Main Library
WEBSITE:
URL:
CONTACT:
ORGANIZER;CN="Michael Patton":http://www.fairtaxnation.com/profile/Mic
 haelPatton
ATTACH;FMTTYPE="image/jpeg":http://storage.ning.com/topology/rest/1.0/
 file/get/1080575324?profile=original
ATTENDEE;ROLE=REQ-PARTICIPANT;PARTSTAT=ACCEPTED;RSVP=TRUE;CN="Andy Wit
 hers":http://www.fairtaxnation.com/profile/AndyWithers
ATTENDEE;ROLE=REQ-PARTICIPANT;PARTSTAT=ACCEPTED;RSVP=TRUE;CN="Michael 
 Patton":http://www.fairtaxnation.com/profile/MichaelPatton
ATTENDEE;ROLE=REQ-PARTICIPANT;PARTSTAT=TENTATIVE;RSVP=TRUE;CN="Gary Le
 e Jones":http://www.fairtaxnation.com/profile/GaryLeeJones
END:VEVENT
END:VCALENDAR
