BEGIN:VCALENDAR
PRODID:NingEventWidget-v1
VERSION:2.0
METHOD:PUBLISH
BEGIN:VTIMEZONE
TZID:America/Cancun
X-LIC-LOCATION:America/Cancun
BEGIN:DAYLIGHT
TZOFFSETFROM:-0600
TZOFFSETTO:-0500
TZNAME:CDT
DTSTART:19700405T020000
RRULE:FREQ=YEARLY;BYMONTH=4;BYDAY=1SU
END:DAYLIGHT
BEGIN:STANDARD
TZOFFSETFROM:-0500
TZOFFSETTO:-0600
TZNAME:CST
DTSTART:19701025T020000
RRULE:FREQ=YEARLY;BYMONTH=10;BYDAY=-1SU
END:STANDARD
END:VTIMEZONE
BEGIN:VEVENT
UID:2636007:Event:90431
DTSTAMP:20260425T111146Z
SUMMARY:Don't miss this exciting GOOOH Event
DESCRIPTION:Tim Cox Presents GOOOH\n\nTim Cox, founder of GOOOH, will 
 speak about the current state of GOOOH and answer questions about the 
 process. This is your opportunity to meet Tim Cox and learn more about
  what GOOOH is. In the second hour we will have a mock candidate selec
 tion. There have been several of these in Henderson and Haywood County
  but this is the first in Buncombe County. If you haven't participated
  in one of these events yet, you are in for a treat and an eye-opening
  experience. Come and see what it's all about. It's important to know 
 what is going on.\n\nPlease bring your friends - and please RSVP at th
 e site referenced and change your RSVP if your plans change. Only peop
 le who RSVP will be notified by email if weather requires a change in 
 the meeting time, site or date.\n\nFor more information visit http://w
 ww.fairtaxnation.com/events/dont-miss-this-exciting-goooh
DTSTART;TZID=America/Cancun:20100117T190000
DTEND;TZID=America/Cancun:20100117T210000
CATEGORIES:meeting
LOCATION:AB Tech Enka Campus - Conference Room
WEBSITE:http://www.meetup.com/GOOOH-Asheville/calendar/12065684/
URL:http://www.meetup.com/GOOOH-Asheville/calendar/12065684/
CONTACT:828-274-7844 or laura.mccue@ncfairtax.org
ORGANIZER:Sharon and Bill Sbrocco/Laura McCue FT contact
ATTACH;FMTTYPE="image/jpeg":
ATTENDEE;ROLE=REQ-PARTICIPANT;PARTSTAT=ACCEPTED;RSVP=TRUE;CN="Tim Wagn
 er":http://www.fairtaxnation.com/profile/TimWagner
ATTENDEE;ROLE=REQ-PARTICIPANT;PARTSTAT=ACCEPTED;RSVP=TRUE;CN="Rick Woo
 ds":http://www.fairtaxnation.com/profile/RickWoods
ATTENDEE;ROLE=REQ-PARTICIPANT;PARTSTAT=ACCEPTED;RSVP=TRUE;CN="Jim Mark
 s":http://www.fairtaxnation.com/profile/JimMarks
ATTENDEE;ROLE=REQ-PARTICIPANT;PARTSTAT=ACCEPTED;RSVP=TRUE;CN="Peter Zi
 mbelman":http://www.fairtaxnation.com/profile/PeterZimbelman
ATTENDEE;ROLE=REQ-PARTICIPANT;PARTSTAT=ACCEPTED;RSVP=TRUE;CN="Jim Plai
 r":http://www.fairtaxnation.com/profile/JimPlair
ATTENDEE;ROLE=REQ-PARTICIPANT;PARTSTAT=ACCEPTED;RSVP=TRUE;CN="Phil M. 
 Edwards":http://www.fairtaxnation.com/profile/PhilMEdwards
ATTENDEE;ROLE=REQ-PARTICIPANT;PARTSTAT=ACCEPTED;RSVP=TRUE;CN="Greg Giv
 ens":http://www.fairtaxnation.com/profile/SoonerDog
ATTENDEE;ROLE=REQ-PARTICIPANT;PARTSTAT=ACCEPTED;RSVP=TRUE;CN="Randy C 
 Almendinger":http://www.fairtaxnation.com/profile/RandyCAlmendinger
ATTENDEE;ROLE=REQ-PARTICIPANT;PARTSTAT=ACCEPTED;RSVP=TRUE;CN="Tom Hart
 z":http://www.fairtaxnation.com/profile/TomHartz
ATTENDEE;ROLE=REQ-PARTICIPANT;PARTSTAT=ACCEPTED;RSVP=TRUE;CN="Laura Mc
 Cue":http://www.fairtaxnation.com/profile/LauraMcCue
ATTENDEE;ROLE=REQ-PARTICIPANT;PARTSTAT=TENTATIVE;RSVP=TRUE;CN="Mike Mc
 Lean":http://www.fairtaxnation.com/profile/MikeMcLean
END:VEVENT
END:VCALENDAR
