BEGIN:VCALENDAR
PRODID:NingEventWidget-v1
VERSION:2.0
METHOD:PUBLISH
BEGIN:VTIMEZONE
TZID:America/Cancun
X-LIC-LOCATION:America/Cancun
BEGIN:DAYLIGHT
TZOFFSETFROM:-0600
TZOFFSETTO:-0500
TZNAME:CDT
DTSTART:19700405T020000
RRULE:FREQ=YEARLY;BYMONTH=4;BYDAY=1SU
END:DAYLIGHT
BEGIN:STANDARD
TZOFFSETFROM:-0500
TZOFFSETTO:-0600
TZNAME:CST
DTSTART:19701025T020000
RRULE:FREQ=YEARLY;BYMONTH=10;BYDAY=-1SU
END:STANDARD
END:VTIMEZONE
BEGIN:VEVENT
UID:2636007:Event:67889
DTSTAMP:20260421T155554Z
SUMMARY:Eastern Shore Defend & Declare Rally
DESCRIPTION:Please Join us on Wednesday, July 22, 2009\n\nDefend our C
 onstitution and Declare our Independence from BIG Government!\n\n\nWed
 nesday, July 22, 2009 5:00 p.m. to 7:00 p.m.\n\nEastern Shore Communit
 y College,\n\n29300 Lankford Hwy., Melfa, VA 23415\n\nOur Government i
 s out of Control!\n\nIt's time to take a stand against big government 
 and out of control spending!\n\nMeet Attorney General Candidate Senato
 r Ken Cuccinelli\nand House of Delegates Candidate Melody Scalley.\n\n
 \nYou and all concerned Eastern Shore Citizens are invited to attend.\
 n\n\nGuest speakers include: Senator Ken Cuccinelli, Delegate Brenda P
 ogge, Melody Scalley, Ben Loyola, Scott Rigell, Reid Greenmun, Carlos 
 Taylor, and many more!\n\n\nFOR ADDITIONAL INFORMATION call\n\nMELODY 
 SCALLEY 757-678-7200\n\nwww.easternshorerally.wordpress.com\n\nSponsor
 ed by 2nd District Republican Party of Virginia, Gary C. Byler -Chairm
 an\n\nNot endorsed or affiliated with the Eastern Shore Community Coll
 ege\n\nFor more information visit http://www.fairtaxnation.com/events/
 eastern-shore-defend-declare
DTSTART;TZID=America/Cancun:20090722T170000
DTEND;TZID=America/Cancun:20090722T190000
CATEGORIES:eastern, shore, defend, "&", declare, rally
LOCATION:Eastern Shore Community College, Melfa, VA
WEBSITE:http://www.easternshorerally.wordpress.com
URL:http://www.easternshorerally.wordpress.com
CONTACT:
ORGANIZER:Gary Byler
ATTACH;FMTTYPE="image/jpeg":http://storage.ning.com/topology/rest/1.0/
 file/get/1080587008?profile=original
ATTENDEE;ROLE=REQ-PARTICIPANT;PARTSTAT=ACCEPTED;RSVP=TRUE;CN="Melody S
 calley":http://www.fairtaxnation.com/profile/MelodyScalley
END:VEVENT
END:VCALENDAR
