BEGIN:VCALENDAR
PRODID:NingEventWidget-v1
VERSION:2.0
METHOD:PUBLISH
BEGIN:VTIMEZONE
TZID:America/Cancun
X-LIC-LOCATION:America/Cancun
BEGIN:DAYLIGHT
TZOFFSETFROM:-0600
TZOFFSETTO:-0500
TZNAME:CDT
DTSTART:19700405T020000
RRULE:FREQ=YEARLY;BYMONTH=4;BYDAY=1SU
END:DAYLIGHT
BEGIN:STANDARD
TZOFFSETFROM:-0500
TZOFFSETTO:-0600
TZNAME:CST
DTSTART:19701025T020000
RRULE:FREQ=YEARLY;BYMONTH=10;BYDAY=-1SU
END:STANDARD
END:VTIMEZONE
BEGIN:VEVENT
UID:2636007:Event:61503
DTSTAMP:20260422T115514Z
SUMMARY:Eau Claire Tea Party July 4th
DESCRIPTION:We need to send a much louder message to Washington D.C. a
 nd Madison. We will do this by gathering thousands of \"Tea'd\" citize
 ns at the next Tea Party on Independence Day 2009. To do this we need 
 EVERYBODY in the Chippewa Valley and the surrounding towns, who agree 
 that we must stop our out of control government, to attend and bring t
 heir signs. We need all you who attended on April 15 to come again and
  bring your family, friends, neighbors, and co-workers. We can no long
 er be silent. We must make our voices heard all the way to Washington\
 n\nFor more information visit http://www.fairtaxnation.com/events/eau-
 claire-tea-party-july-4th
DTSTART;TZID=America/Cancun:20090704T110000
DTEND;TZID=America/Cancun:20090704T140000
CATEGORIES:rally
LOCATION:Empty Lot
WEBSITE:http://www.eauclaireteaparty.org
URL:http://www.eauclaireteaparty.org
CONTACT:
ORGANIZER:Eau Claire Tea Party
ATTACH;FMTTYPE="image/jpeg":
ATTENDEE;ROLE=REQ-PARTICIPANT;PARTSTAT=ACCEPTED;RSVP=TRUE;CN="Shane Ha
 nson":http://www.fairtaxnation.com/profile/ShaneHanson
END:VEVENT
END:VCALENDAR
