BEGIN:VCALENDAR
PRODID:NingEventWidget-v1
VERSION:2.0
METHOD:PUBLISH
BEGIN:VTIMEZONE
TZID:America/Cancun
X-LIC-LOCATION:America/Cancun
BEGIN:DAYLIGHT
TZOFFSETFROM:-0600
TZOFFSETTO:-0500
TZNAME:CDT
DTSTART:19700405T020000
RRULE:FREQ=YEARLY;BYMONTH=4;BYDAY=1SU
END:DAYLIGHT
BEGIN:STANDARD
TZOFFSETFROM:-0500
TZOFFSETTO:-0600
TZNAME:CST
DTSTART:19701025T020000
RRULE:FREQ=YEARLY;BYMONTH=10;BYDAY=-1SU
END:STANDARD
END:VTIMEZONE
BEGIN:VEVENT
UID:2636007:Event:64518
DTSTAMP:20260422T062817Z
SUMMARY:EVENT CANCELLED -July 4 Tea Party and Freedom Rally
DESCRIPTION:THIS EVENT HAS BEEN CANCELLED!\n\n\nWHAT: July 4th Tea Par
 ty and Freedom Rally\nWHEN: July 4th from 1 PM to 3 PM\nWHERE: Goodale
  Park, Downtown Columbus at the Gazebo by the pond\n\nFor more informa
 tion visit http://www.fairtaxnation.com/events/event-cancelled-july-4-
 tea
DTSTART;TZID=America/Cancun:20090704T130000
DTEND;TZID=America/Cancun:20090704T150000
CATEGORIES:july, 4, tea, party, and, freedom, rally
LOCATION:Goodale Park
WEBSITE:
URL:
CONTACT:
ORGANIZER:The Columbus Tea Party
ATTACH;FMTTYPE="image/jpeg":
ATTENDEE;ROLE=REQ-PARTICIPANT;PARTSTAT=ACCEPTED;RSVP=TRUE;CN="Nancy L.
  Gatchel":http://www.fairtaxnation.com/profile/NancyLGatchel
END:VEVENT
END:VCALENDAR
