BEGIN:VCALENDAR
PRODID:NingEventWidget-v1
VERSION:2.0
METHOD:PUBLISH
BEGIN:VTIMEZONE
TZID:America/Cancun
X-LIC-LOCATION:America/Cancun
BEGIN:DAYLIGHT
TZOFFSETFROM:-0600
TZOFFSETTO:-0500
TZNAME:CDT
DTSTART:19700405T020000
RRULE:FREQ=YEARLY;BYMONTH=4;BYDAY=1SU
END:DAYLIGHT
BEGIN:STANDARD
TZOFFSETFROM:-0500
TZOFFSETTO:-0600
TZNAME:CST
DTSTART:19701025T020000
RRULE:FREQ=YEARLY;BYMONTH=10;BYDAY=-1SU
END:STANDARD
END:VTIMEZONE
BEGIN:VEVENT
UID:2636007:Event:196564
DTSTAMP:20260425T082932Z
SUMMARY:Fair Tax Booth at IL Republican Convrention
DESCRIPTION:BACKGROUND ON THE 2016 ILLINOIS REPUBLICAN STATE CONVENTIO
 N\nThe Illinois Republican Party hosts a state convention once every f
 our years, approximately eight to ten weeks prior to the Republican Na
 tional Convention. At the state convention, Republicans from all over 
 Illinois will select Presidential electors to represent the state at t
 he Republican National Convention in Cleveland on July 18-21, 2016. Th
 e Illinois Republican Party also conducts official business, including
  the election of Illinois’ representatives to the Republican Nationa
 l Committee and a reassessment of the party bylaws, platform, resoluti
 ons, rules, and procedures.\n\n\nFor more information visit http://www
 .fairtaxnation.com/events/fair-tax-booth-at-il-republican-convrention
DTSTART;TZID=America/Cancun:20160519T000000
DTEND;TZID=America/Cancun:20160521T235900
CATEGORIES:fair, tax, booth, at, convention
LOCATION:PEORIA MARRIOTT PERE MARQUETTE
WEBSITE:http://www.weareillinois.org/convention-2016/
URL:http://www.weareillinois.org/convention-2016/
CONTACT:708-687-9412
ORGANIZER;CN="Marilyn Rickert":http://www.fairtaxnation.com/profile/Ma
 rilyn
ATTACH;FMTTYPE="image/jpeg":http://storage.ning.com/topology/rest/1.0/
 file/get/1080616898?profile=original
ATTENDEE;ROLE=REQ-PARTICIPANT;PARTSTAT=ACCEPTED;RSVP=TRUE;CN="Marilyn 
 Rickert":http://www.fairtaxnation.com/profile/Marilyn
END:VEVENT
END:VCALENDAR
