BEGIN:VCALENDAR
PRODID:NingEventWidget-v1
VERSION:2.0
METHOD:PUBLISH
BEGIN:VTIMEZONE
TZID:America/Cancun
X-LIC-LOCATION:America/Cancun
BEGIN:DAYLIGHT
TZOFFSETFROM:-0600
TZOFFSETTO:-0500
TZNAME:CDT
DTSTART:19700405T020000
RRULE:FREQ=YEARLY;BYMONTH=4;BYDAY=1SU
END:DAYLIGHT
BEGIN:STANDARD
TZOFFSETFROM:-0500
TZOFFSETTO:-0600
TZNAME:CST
DTSTART:19701025T020000
RRULE:FREQ=YEARLY;BYMONTH=10;BYDAY=-1SU
END:STANDARD
END:VTIMEZONE
BEGIN:VEVENT
UID:2636007:Event:168042
DTSTAMP:20260422T133003Z
SUMMARY:Fair Tax Brunch, St. Charles, IL
DESCRIPTION:Come early and join us for dinner starting at 6:00 PM. Foo
 d and beverage are available for purchase before and during the Forum.
 \n\nFor more information visit http://www.fairtaxnation.com/events/fai
 r-tax-brunch-st-charles-il
DTSTART;TZID=America/Cancun:20120509T180000
DTEND;TZID=America/Cancun:20120509T203000
CATEGORIES:forum, w, optional, dinner
LOCATION:Colonial Cafe -- SE corner of Main Street at Tyler Road
WEBSITE:
URL:
CONTACT:630-584-4548
ORGANIZER:Pete Malone
ATTACH;FMTTYPE="image/jpeg":http://storage.ning.com/topology/rest/1.0/
 file/get/1080609810?profile=original
ATTENDEE;ROLE=REQ-PARTICIPANT;PARTSTAT=ACCEPTED;RSVP=TRUE;CN="Marilyn 
 Rickert":http://www.fairtaxnation.com/profile/Marilyn
END:VEVENT
END:VCALENDAR
