BEGIN:VCALENDAR
PRODID:NingEventWidget-v1
VERSION:2.0
METHOD:PUBLISH
BEGIN:VTIMEZONE
TZID:America/Cancun
X-LIC-LOCATION:America/Cancun
BEGIN:DAYLIGHT
TZOFFSETFROM:-0600
TZOFFSETTO:-0500
TZNAME:CDT
DTSTART:19700405T020000
RRULE:FREQ=YEARLY;BYMONTH=4;BYDAY=1SU
END:DAYLIGHT
BEGIN:STANDARD
TZOFFSETFROM:-0500
TZOFFSETTO:-0600
TZNAME:CST
DTSTART:19701025T020000
RRULE:FREQ=YEARLY;BYMONTH=10;BYDAY=-1SU
END:STANDARD
END:VTIMEZONE
BEGIN:VEVENT
UID:2636007:Event:26925
DTSTAMP:20260424T074948Z
SUMMARY:Fair Tax educational radio show
DESCRIPTION:Jack Jackson , the South Carolina state fair tax director 
 will be the guest on Let's Make the Difference, the www.blogtalkradio.
 com fair tax educational show. We will be discussing the events upcomi
 ng in South Carolina and the S.C. Fair Tax bill being worked on by Sta
 te Senator Larry Grooms. Callers are welcome to call in questions for 
 Mr. Jackson at 646-727-1655 during the show.\n\nFor more information v
 isit http://www.fairtaxnation.com/events/fair-tax-educational-radio
DTSTART;TZID=America/Cancun:20090305T180000
DTEND;TZID=America/Cancun:20090305T190000
CATEGORIES:fair, tax, radio, show
LOCATION:www.blogtalkradio.com
WEBSITE:http://www.blogtalkradio.com/luvmyfreedom
URL:http://www.blogtalkradio.com/luvmyfreedom
CONTACT:646-727-1655
ORGANIZER;CN="Marc Bohemier":http://www.fairtaxnation.com/profile/Marc
 Bohemier
ATTACH;FMTTYPE="image/jpeg":http://storage.ning.com/topology/rest/1.0/
 file/get/1080577520?profile=original
ATTENDEE;ROLE=REQ-PARTICIPANT;PARTSTAT=ACCEPTED;RSVP=TRUE;CN="Jim Toma
 sik":http://www.fairtaxnation.com/profile/JimTomasik
ATTENDEE;ROLE=REQ-PARTICIPANT;PARTSTAT=ACCEPTED;RSVP=TRUE;CN="Mike McL
 ean":http://www.fairtaxnation.com/profile/MikeMcLean
ATTENDEE;ROLE=REQ-PARTICIPANT;PARTSTAT=ACCEPTED;RSVP=TRUE;CN="John Ste
 inberger":http://www.fairtaxnation.com/profile/JohnSteinberger
ATTENDEE;ROLE=REQ-PARTICIPANT;PARTSTAT=ACCEPTED;RSVP=TRUE;CN="Marc Boh
 emier":http://www.fairtaxnation.com/profile/MarcBohemier
END:VEVENT
END:VCALENDAR
