BEGIN:VCALENDAR
PRODID:NingEventWidget-v1
VERSION:2.0
METHOD:PUBLISH
BEGIN:VTIMEZONE
TZID:America/Cancun
X-LIC-LOCATION:America/Cancun
BEGIN:DAYLIGHT
TZOFFSETFROM:-0600
TZOFFSETTO:-0500
TZNAME:CDT
DTSTART:19700405T020000
RRULE:FREQ=YEARLY;BYMONTH=4;BYDAY=1SU
END:DAYLIGHT
BEGIN:STANDARD
TZOFFSETFROM:-0500
TZOFFSETTO:-0600
TZNAME:CST
DTSTART:19701025T020000
RRULE:FREQ=YEARLY;BYMONTH=10;BYDAY=-1SU
END:STANDARD
END:VTIMEZONE
BEGIN:VEVENT
UID:2636007:Event:51838
DTSTAMP:20260421T172730Z
SUMMARY:Fair Tax informational meeting
DESCRIPTION:Fair Tax informational meeting to be held Thursday, June 1
 8, 2009 at 7:00 p.m. Speakers will include Ron Heilman, Dan Higgins an
 d Adrian Messer.\nThe Fair Tax film will be shown, followed by a quest
 ion and answer session.\nThe site for this meeting is the Dan Quayle V
 ice-Presidential Museum, Upper Gallery, at the corner of Warren and Ti
 pton Street near downtown Huntington, Indiana.\n\nFor more information
  visit http://www.fairtaxnation.com/events/fair-tax-informational-meet
 ing-1
DTSTART;TZID=America/Cancun:20090618T190000
DTEND;TZID=America/Cancun:20090618T203000
CATEGORIES:informational, fair, tax, meeting
LOCATION:Dan Quayle Vice-Presidential Museum
WEBSITE:http://www.quaylemuseum.org
URL:http://www.quaylemuseum.org
CONTACT:356-6356
ORGANIZER;CN="Mary Oberle Hubley":http://www.fairtaxnation.com/profile
 /MaryOberleHubley
ATTACH;FMTTYPE="image/jpeg":
ATTENDEE;ROLE=REQ-PARTICIPANT;PARTSTAT=ACCEPTED;RSVP=TRUE;CN="Mary Obe
 rle Hubley":http://www.fairtaxnation.com/profile/MaryOberleHubley
END:VEVENT
END:VCALENDAR
