BEGIN:VCALENDAR
PRODID:NingEventWidget-v1
VERSION:2.0
METHOD:PUBLISH
BEGIN:VTIMEZONE
TZID:America/Cancun
X-LIC-LOCATION:America/Cancun
BEGIN:DAYLIGHT
TZOFFSETFROM:-0600
TZOFFSETTO:-0500
TZNAME:CDT
DTSTART:19700405T020000
RRULE:FREQ=YEARLY;BYMONTH=4;BYDAY=1SU
END:DAYLIGHT
BEGIN:STANDARD
TZOFFSETFROM:-0500
TZOFFSETTO:-0600
TZNAME:CST
DTSTART:19701025T020000
RRULE:FREQ=YEARLY;BYMONTH=10;BYDAY=-1SU
END:STANDARD
END:VTIMEZONE
BEGIN:VEVENT
UID:2636007:Event:196778
DTSTAMP:20260425T083008Z
SUMMARY:Fair Tax Nation Booth at Freedom Fest, Nv
DESCRIPTION:freedomfest: \nOur theme for our tenth year is “Freedom
  Rising.” Mark your calendar now! Over 250 speakers with keynote spe
 akers George Foreman, Judge Andrew Napolitano, Grover Norquist, Steve 
 Forbes, John Mackey, Lawrence Reed, John Allison, and many more. Regis
 tration is now open!\n\nFor more information visit http://www.fairtaxn
 ation.com/events/fair-tax-nation-booth-at-freedom-fest-nv
DTSTART;TZID=America/Cancun:20160713T000000
DTEND;TZID=America/Cancun:20160716T235900
CATEGORIES:booth, "&", networking
LOCATION:Planet Hollywood Hotel
WEBSITE:
URL:
CONTACT:(866)919-7472
ORGANIZER;CN="Marilyn Rickert":http://www.fairtaxnation.com/profile/Ma
 rilyn
ATTACH;FMTTYPE="image/jpeg":http://storage.ning.com/topology/rest/1.0/
 file/get/1080618522?profile=original
ATTENDEE;ROLE=REQ-PARTICIPANT;PARTSTAT=ACCEPTED;RSVP=TRUE;CN="John Wes
 ley Nobles":http://www.fairtaxnation.com/profile/JohnWesleyNobles
ATTENDEE;ROLE=REQ-PARTICIPANT;PARTSTAT=ACCEPTED;RSVP=TRUE;CN="Marilyn 
 Rickert":http://www.fairtaxnation.com/profile/Marilyn
ATTENDEE;ROLE=REQ-PARTICIPANT;PARTSTAT=TENTATIVE;RSVP=TRUE;CN="Mary An
 n Young":http://www.fairtaxnation.com/profile/MaryAnnYoung
ATTENDEE;ROLE=REQ-PARTICIPANT;PARTSTAT=TENTATIVE;RSVP=TRUE;CN=Steven:h
 ttp://www.fairtaxnation.com/profile/Steven461
ATTENDEE;ROLE=REQ-PARTICIPANT;PARTSTAT=TENTATIVE;RSVP=TRUE;CN="Dennis 
 Holman":http://www.fairtaxnation.com/profile/DennisHolman
END:VEVENT
END:VCALENDAR
