BEGIN:VCALENDAR
PRODID:NingEventWidget-v1
VERSION:2.0
METHOD:PUBLISH
BEGIN:VTIMEZONE
TZID:America/Cancun
X-LIC-LOCATION:America/Cancun
BEGIN:DAYLIGHT
TZOFFSETFROM:-0600
TZOFFSETTO:-0500
TZNAME:CDT
DTSTART:19700405T020000
RRULE:FREQ=YEARLY;BYMONTH=4;BYDAY=1SU
END:DAYLIGHT
BEGIN:STANDARD
TZOFFSETFROM:-0500
TZOFFSETTO:-0600
TZNAME:CST
DTSTART:19701025T020000
RRULE:FREQ=YEARLY;BYMONTH=10;BYDAY=-1SU
END:STANDARD
END:VTIMEZONE
BEGIN:VEVENT
UID:2636007:Event:196443
DTSTAMP:20260425T082943Z
SUMMARY:Fair Tax Postcard Push Nation Wide Event April 8-April 22
DESCRIPTION:\nOur goal for this event is to have a massive coordinated
  mailing of postcards to Presidential candidates and all congressional
  candidates.  Together we can inundate all politicians and let them k
 now that there are a whole lot of us all over the USA & they must edu
 cate themselves and support the only true tax reform plan available, T
 he FairTax®! Please make sure that at a minimum your name, city and s
 tate is on your postcards, a brief statement why you support the Fair 
 Tax would be a plus.  Postcard options: Make your own, buy your own, o
 rder your own, OR Jamie Wheeler, Fair Tax advocate from Washington sta
 te, designed 6 postcards, ordered 1000 of... each and you can order th
 ose by contacting her and donating through FairTaxNation.com.  We woul
 d like for supporters of the Fair Tax to work together across this gre
 at land to get these mailed out and plan on them arriving in the candi
 date's mailboxes during the two weeks surrounding April 15.  Ordering 
 instructions and prices: In order to coordinate, everyone who wants th
 e Fair Tax designed postcards you need to order your postage paid post
 cards from Jamie no later than ***Tuesday, March 29.*** Prices: Set of
  6 = $3.50 Set of 12 = $7.00 Set of 18 = $10.50 (The price is \"cost\"
  & includes price of postcard, postage & shipping)http://www.fairtaxn
 ation.com/group/postcards (you can mix and match the designs in your s
 et(s) or have all 6 of one design, order as many sets as you like)  Th
 ought on how many you might need... 5 Presidential Candidates 1 sittin
 g Rep and any challengers 2 Senators and Senatorial candidates.  You c
 an also plan on continuing to send postcards every month or week from 
 now until the elections in November. Send Jamie a message via TEXT 509
 -628-6876, FaceBook or Fair Tax Nation or NoMoreIRS@aol.com with the f
 ollowing FIVE pieces of information: 1) Your Name / 2) Mailing Address
  / 3) how many sets / 4) which postcard design(s) / 5) how you will be
  making your donation via Fair Tax Nation .... CHARGE or CHECK (via ma
 il):  Fair Tax Nation / P. O. Box 808 / Oak Forest, IL 60452 Confirmat
 ion of your information will be in the same form as you contacted her.
 Get addresses for the Presidential Candidates campaign (listed below o
 r on FTN's Group: Postcards & Phone Calls Campaign http://www.fairtaxn
 ation.com/group/postcards) or for your Representatives/Senators or can
 didates.\nDUE TO CHARACTER LIMITATIONS SEE THE FULL DETAILS IN THE POS
 TCARDS & PHONE CALLS CAMPAIGN group here on FTN\n\n\nFor more informat
 ion visit http://www.fairtaxnation.com/events/fair-tax-postcard-push-n
 ation-wide-event-april-8-april-22
DTSTART;TZID=America/Cancun:20160408T000000
DTEND;TZID=America/Cancun:20160422T235900
CATEGORIES:awareness
LOCATION:From your home
WEBSITE:
URL:
CONTACT:
ORGANIZER;CN="Jamie Wheeler WA":http://www.fairtaxnation.com/profile/J
 amie
ATTACH;FMTTYPE="image/jpeg":
ATTENDEE;ROLE=REQ-PARTICIPANT;PARTSTAT=ACCEPTED;RSVP=TRUE;CN="Michael 
 D. Kersh":http://www.fairtaxnation.com/profile/MichaelDKersh
ATTENDEE;ROLE=REQ-PARTICIPANT;PARTSTAT=ACCEPTED;RSVP=TRUE;CN="Sandy Sw
 eeney":http://www.fairtaxnation.com/profile/SandySweeney
ATTENDEE;ROLE=REQ-PARTICIPANT;PARTSTAT=ACCEPTED;RSVP=TRUE;CN="Jamie Wh
 eeler WA":http://www.fairtaxnation.com/profile/Jamie
ATTENDEE;ROLE=REQ-PARTICIPANT;PARTSTAT=TENTATIVE;RSVP=TRUE;CN="Marcus 
 D. Harris":http://www.fairtaxnation.com/profile/MarcusDHarris
END:VEVENT
END:VCALENDAR
